{"text_format":"1","workbook":"xlsx","n_sheets":8,"sheets":["Information","Indata & Resultat","Beräkna ÅDT","Hastighet","Trafiksäkerhet","CO2","Version","Blad1"],"not_rendered":{"charts":4,"images":3,"macros":1,"external_links":0,"defined_names":0,"comments":5,"pivot_tables":0},"unopened":[],"bounds":{"document_bytes":16777216,"sheet_cells":100000,"rows_first":2000,"rows_last":500,"rows_between":2000,"halvings":0,"cell_chars":16384,"cell_head_chars":4096},"cells_cut":0,"cells_raw":0,"read":"whole","date_system":"1900"}

{"sheet":"Information","index":0,"n_rows":38,"n_cols":2,"rows_kept":38,"cut":false,"hidden":false,"merged":[[3,1,3,11],[30,1,30,11],[27,1,27,11],[28,1,28,11],[17,1,17,11]]}
["Schablonmodell, trafiksäkerhets-, restids- och CO2-effekter - RHA regionala hastighetsanalyser, 2024.1"]
[]
["Indata:","Fyll i de grå fälten och tryck \"Starta\" för att se resultat, avvakta tills makrot har kört klart. "]
[null,"Hela den grå raden på Indata och Resultat måste vara ifylld för att makrot ska fungera"]
["Löpnummer"]
["Region"]
["Län"]
["Vägnummer"]
["Objektnamn:","Förslagsvis namn som används i RHA"]
["Vägkategori:","Ange europaväg, länsväg eller riksväg"]
["Trafikflöde:",{"$f":"\"Fordon per dygn \"& 'Beräkna ÅDT'!K1&\".\"&\" Vänligen använd fliken 'Beräkna ÅDT'\"","v":"Fordon per dygn 2028. Vänligen använd fliken 'Beräkna ÅDT'"}]
["Längd:","Km. Längd och trafikflöde antas konstant före/efter"]
["Vägtyp före:","GIF om genomfart i tätortsmiljö, 2kf om landsväg, MLV eller MV"]
["Skyltad hastighet före:","Avser huvudsaklig skyltad hastighetsgräns före. GIF 50 eller 70, 2 kf 70, 90 eller 100 och för MLV 90, 100 eller 110"]
["ATK före:","Ja eller Nej. Vid ATK innan så antas ATK efter och tvärt om"]
["Landsbygd eller tätort:","Ger potens enligt effektkatalogen, kap 6, se flik Trafiksäkerhet U3:W5. GIF=tätort och 2kf/MLV/MV=landsbygd"]
["Ombyggnad till:","RHA beräknar enbart effekter vid hastighetsförändringar, vid ombyggnation bör istället EVA användas (är nu en dold flik)"]
["Beräkningsmetod:","Beräkningar i gula fält, har dolts"]
["Hastighet före ATK:","Medelhastighet skattas enligt Effektkatalogsamband för typisk timhastighet."]
[null,"Linjeföring SK1 till SK2. Inga korsningar med större inverkan på medelhastighet sett över hela sträckan."]
["Hastighet före med ATK:","Beräknas enligt Effektkatalogen kap 4.5.10 ATK, se Hastighet K5:P15 "]
["Hastigheter efter utan ATK:","Beräknas med uppskattningar enligt utvärdering översyn, se hastighet R28:U34"]
["Andelar personbilar och lastbilar med och utan släp","Använd senaste mätning på Trafikflödeskartan: http://vtf.trafikverket.se/SeTrafikfloden"]
["ATK-effekter:","Enligt effektkatalog 4.10, se hastighet V4:Y21"]
["Trafiksäkerhet före:","Före-utfall beräknas enligt effektkatalog med schablontillägg korsningar, se trafiksäkerhet H2:N18"]
["Trafiksäkerhetseffkter:","Med potensmodell, se Trafiksäkerhet U3:W5"]
["Koldioxideffekter:","Beräknas enligt CO2 effekter enligt beslutad politik, indata från Helen Lindblom"]
["Resultat:","Restid i de ljusblå"]
[null,"Trafiksäkerhetseffekter ges i de gröna fälten"]
[null,"Koldioxideffekter ges i de oranga fälten"]
[null,"Summa av respektive effekt återfinns längst ner i \"Indata & resultat\""]
[]
[null,"Tryck på \"Radera\" för att återställa beräkningarna"]
[]
[null,"Vid frågor eller synpunkter, vänligen kontakta:"]
[null,"Emma Lindvall"]
[null,"PLee"]
[null,"emma.lindvall@trafikverket.se"]

{"sheet":"Indata & Resultat","index":1,"n_rows":92,"n_cols":93,"rows_kept":92,"cut":false,"hidden":false,"merged":[[7,5,8,5],[7,8,8,8],[7,10,8,10],[3,11,8,11],[3,13,8,13],[8,18,8,19],[8,60,8,63],[7,15,8,17],[7,6,8,6],[7,7,8,7]]}
[{"$f":"Information!A1","v":"Schablonmodell, trafiksäkerhets-, restids- och CO2-effekter - RHA regionala hastighetsanalyser, 2024.1"},null,null,null,null,null,null,null,null,null,null,"Ombyggnad","EFTER ÅTGÄRD Skyltad hastighet ","ATK"]
[null,null,null,null,null,null,null,null,null,null,null,null,"Alternativ:","Alternativ:"]
[null,null,null,null,null,null,null,null,null,null,null,null,"GIF50 före: 40"]
[null,null,null,null,null,null,null,null,null,null,null,null,"GIF70 före:60","Om ATK före åtgärd så måste det finnas efter.  "]
["Indata:",null,null,null,null,null,null,null,"FÖRE ÅTGÄRD",null,null,null,"2kf90 före:80"]
[null,null,null,null,null,"Vägkategori","Trafikflöde","Längd","Vägtyp","Skyltad hastighet","ATK",null,"2kf100 före:80"]
[null,null,null,null,null,"Alternativ:","(f/dygn)","(km)","Alternativ:","Alternativ:","Alternativ:",null,"MLV90 före: 100",null,null,null,null,null,null,null,null,null,null,null,null,null,null,null,null,null,null,null,null,null,null,null,null,null,null,null,null,null,null,null,null,null,null,null,null,null,null,null,null,null,null,null,null,null,null,null,null,null,null,null,"per mapkm"]
[null,null,null,null,null,"Europaväg Riksväg Länsväg","Ska avse 2028 medelutveckling","Antas vara samma före och efter","2kf tätort = GIF 2kf landbyggd = 2kf Mötesfri landsväg = MLV Motorväg = MV ","GIF: 50, 70","Ja eller Nej . Det går att lägga till ATK för hastighet 50-100 km/h.",null,"MLV110 före: 100",null,null,"Andelar personbilar och lastbilar med och utan släp. Hämtas från \"Beräkna ÅDT\"",null,null,null,null,null,null,null,null,null,null,null,null,null,null,null,null,"RESULTAT",null,null,null,null,null,null,null,null,null,null,"Efter",null,null,null,null,null,null,null,null,null,null,null,null,null,null,null,null,"Tidseffekter (-minskning)",null,null,null,null,null,null,null,"Trafiksäkerhet",null,"CO2 FÖRE",null,null,null,null,null,null,null,null,"CO2 EFTER",null,null,null,null,null,null,null,null,"Klimat"]
[null,null,null,null,null,null,null,null,null,"2kf: 90, 100 MLV:90,110 MV: 110",null,null,"MV110 före: 120",null,"Beräkning",null,null,null,"Hastighet relativt pb",null,"\"Hastighet före ATK\"",null,null,"Konstanter AC ATK formel",null,null,null,"Hastigheter före efter ATK",null,null,null,null,"Pb","Lb","Lbs","Tot","Resulterande medelhastighet före",null,null,null,null,null,null,"Beräkning om alt nr =",null,null,null,null,null,null,null,null,null,"Medelhastighet efter",null,null,null,null,null,null,"timmar/år",null,null,null,"Före",null,"Efter",null,"D/år (-minskning)","SS/år (-minskning)","pb",null,"CO2 g/fkm","lb",null,"CO2 g/fkm","lbs",null,"CO2 g/fkm","pb",null,"CO2 g/fkm","lb",null,"CO2 g/fkm","lbs",null,"CO2 g/fkm","Resultat CO2 kiloton/år (-minskning)"]
["Löpnr","Reg","Län","Vägnr","Objektnamn","Vägkategori","ÅDT","Längd (km)","VägTyp","Skyltad hastighet","ATK","Ombyggnad","Hastighetsgräns","ATK Efter","Alt Nr","Pb","Lb","Lbs","Lb Rel","Lbs Rel","Vpb","Vlb","Vlbs","A pb","A lb","A lbs","Lb korr","Vpb2","Vlb2","Vlb Slut","Vlbs2","Vlbs slut","Pb fkm","Lb fkm","Lbs fkm","Tot fkm","PbMedel","LbMedel","LbsMedel","PbLbLbsMedel","PbMedel1","LbMedel1","LbsMedel1","Alt1","Alt2","Alt3","Alt4","Alt5","Alt7","Alt8","Alt9","Alt10","AltEfter","PbEfter","LbEfter","LbsEfter","PbLbLbsEfter","PbEfter1","LbEfter1","LbsEfter1","Resultat Pb","Resultat Lb","Resultat Lbs","Resultat tot","DkFöre","SskFöre","DkEfter","SskEfter","DkResultat","SskResultat","CO2 före pb","CO2 före pb1","CO2 före pb res","CO2 före lb","CO2 före lb1","CO2 före lb res","CO2 före lbs","CO2 före lbs1","CO2 före lbs res","CO2 efter pb","CO2 efter pb1","CO2 efter pb res","CO2 efter lb","CO2 efter lb1","CO2 efter lb res","CO2 efter lbs","CO2 efter lbs1","CO2 efter lbs res","CO2 pb","CO2 lb","CO2 lbs","CO2 tot","Kolumn1"]
[1,"XX","XX","XX","TEST","Riksväg",2184,1,"GIF",50,"Ja","Nej",40,"Ja",2,0.9,0.05,{"$f":"IF(AND($P11>0%,$Q11>0%),100%-SUM($P11:$Q11),\"\")","v":4.9999999999999933E-2},1,1,46.051926736842105,46.051926736842105,46.051926736842105,0.65333300000000005,0.65333300000000005,0.65333300000000005,40,43.953923450761266,43.953923450761266,43.953923450761266,43.953923450761266,43.953923450761266,0.71744399999999997,3.9857999999999998E-2,3.9857999999999949E-2,0.87089729999999987,43.953923450761266,43.953923450761266,43.953923450761266,43.953923450761266,44.953923450761266,44.953923450761266,44.953923450761266,null,null,null,null,null,null,null,null,null,3,39.606170698890004,39.606170698890004,39.606170698890004,39.606170698890004,40.606170698890004,40.606170698890004,40.606170698890004,1791.8116013984124,99.545088966578476,99.545088966578348,1990.9017793315693,2.6295234508535719E-3,5.8100291947865153E-2,1.7700471557346434E-3,4.4316744936489932E-2,-7.4851558483307785E-4,-1.2004053876629747E-2,135.04957847840001,134.17382472499997,135.08993018933955,451.01662279999999,449.29091100000005,451.09613764472454,834.3475372800001,829.59157800000014,834.5666754719424,138.89337370000001,137.88130786340002,139.29195488110548,459.25909800000005,0,640.12878759374712,854.66448000000014,849.39127847999998,856.74122126923396,3.014717402959314E-3,7.5344633616681415E-3,8.8383304638844581E-4,1.1433013811015901E-2,{"$f":"RHA[[#This Row],[VägTyp]]&RHA[[#This Row],[Skyltad hastighet]]","v":"GIF50"}]
[2,"XX","XX","XX","TEST","Riksväg",5000,1,"GIF",70,"Ja","Nej",60,"Ja",4,0.9,0.05,4.9999999999999933E-2,1.0004537642909022,0.99527533184921846,65.973275362318844,66.003211678832116,65.661573529411754,0.66800000000000004,0.70899999999999996,0.70899999999999996,60,63.990147942028983,64.256277080291966,63.990147942028983,64.014055632352935,63.990147942028983,1.6425000000000001,9.1249999999999998E-2,9.1249999999999887E-2,1.9938124999999998,63.990147942028983,63.990147942028983,63.990147942028983,63.990147942028976,64.990147942028983,64.990147942028983,64.990147942028983,null,null,null,null,null,null,null,null,null,6,58.870857095526148,59.473136727589278,59.538252299989637,58.933728889531046,59.870857095526148,60.473136727589278,60.538252299989637,2232.0386442790641,108.30539311573284,106.62735891171599,2446.9713963065128,3.6662313219916788E-3,5.4027214538865796E-2,2.2557949638629519E-3,3.6996981124895294E-2,-2.8121456412915319E-3,-3.395509225869206E-2,124.00932736240001,123.81513402499999,124.01124056641767,441.95531879999999,442.90886299999988,441.94592442726366,763.79735808000009,761.62761000000012,763.81873456386677,125.49146436140001,125.12688091999999,125.53854772594548,439.19703979999997,0,231.39678962213011,773.7694560000001,771.08246567999993,775.01016760021025,2.5086020095244251E-3,-1.921260855096844E-2,1.0212182645663414E-3,-1.5682788276877673E-2,{"$f":"RHA[[#This Row],[VägTyp]]&RHA[[#This Row],[Skyltad hastighet]]","v":"GIF70"}]
[3,"XX","XX","XX","TEST","Riksväg",7816,1,"2kf",90,"Ja","Nej",80,"Ja",8,0.9,0.05,4.9999999999999933E-2,0.97915295043212192,0.93077710976086858,85.937652700280097,84.146106194690262,79.988800000000012,0.641957,0.873,0.89600000000000002,72.5,83.811717714513705,82.667050707964592,82.667050707964592,79.209964800000009,79.209964800000009,2.5675560000000002,0.14264199999999999,0.1426419999999998,3.1167276999999998,83.811717714513705,82.667050707964592,79.209964800000009,83.524396718460565,84.811717714513705,83.667050707964592,80.209964800000009,null,null,null,null,null,null,null,null,null,12,79.257539340026398,79.808254188693766,77.827344005997503,79.212087286258509,80.257539340026398,80.808254188693766,78.827344005997503,1760.2916740077344,61.808813920235977,31.991785094754004,1854.0922730227244,3.4296628661944122E-3,3.8179491963241018E-2,2.5085472144834075E-3,2.9917785943058196E-2,-2.8708666665912407E-3,-2.5749488002360557E-2,119.35941835919998,119.77348893699998,119.28145620445916,495.32891204999993,501.13992480000007,493.39413946887862,686.61756179999986,689.12963999999965,687.14500979684715,117.6871743622,117.96854197599998,117.75963759176285,479.52008400000005,484.51899164999992,478.5615643970059,684.47463119999952,686.61756179999986,684.10464138717805,-3.9073545099400815E-3,-2.1157481734020689E-3,-4.3368423069201903E-4,-6.4567869140341695E-3,{"$f":"RHA[[#This Row],[VägTyp]]&RHA[[#This Row],[Skyltad hastighet]]","v":"2kf90"}]
[4,"XX","XX","XX","TEST","Riksväg",10632,1,"2kf",100,"Ja","Nej",80,"Ja",10,0.9,0.05,4.9999999999999933E-2,0.95139290034330626,0.86954086984588064,94.123036649214654,89.54798882681564,81.843827160493817,0.75,0.89900000000000002,0.90500000000000003,72.5,93.092277486910987,87.826141955307264,87.826141955307264,80.956163580246908,80.956163580246908,3.4926119999999998,0.19403400000000001,0.19403399999999973,4.2396428999999989,93.092277486910987,87.826141955307264,80.956163580246908,92.222165014997586,94.092277486910987,88.826141955307264,81.956163580246908,null,null,null,null,null,null,null,null,null,14,83.707477748691105,81.36948324022346,77.410354938271595,83.24927227198485,84.707477748691105,82.36948324022346,78.410354938271595,4206.2728424682318,175.3074225478409,109.78528985846678,4491.3655548745401,3.2807607075128514E-3,3.3880814753552452E-2,1.7934564496419887E-3,2.1157358933120381E-2,-6.305638937021971E-3,-5.3942909132558489E-2,124.0415149002,124.69445081319999,124.10176618536558,527.09099279999998,534.25551404999999,525.84538314431541,692.01086579999969,695.26123919999964,691.86838106728305,119.35941835919998,119.77348893699998,119.23829350158114,484.51899164999992,489.78860100000014,486.46602398734984,682.70084819999965,684.47463119999952,683.42872881347182,-1.6986223057057728E-2,-7.6409345746626563E-3,-1.6375794854160063E-3,-2.6264737117136391E-2,{"$f":"RHA[[#This Row],[VägTyp]]&RHA[[#This Row],[Skyltad hastighet]]","v":"2kf100"}]
[5,"XX","XX","XX","TEST","Riksväg",13448,1,"MLV",90,"Ja","Nej",100,"Ja",12,0.9,0.05,4.9999999999999933E-2,0.96900176363242063,0.92557998523397267,84.896753433869293,82.26510380408611,78.57873578973296,0.641957,0.873,0.89600000000000002,72.5,83.143505144146431,81.02493562096717,81.02493562096717,77.946547267600721,77.946547267600721,4.4176679999999999,0.24542600000000001,0.24542599999999967,5.3625580999999993,83.143505144146431,81.02493562096717,77.946547267600721,82.777728774160181,84.143505144146431,82.02493562096717,78.946547267600721,null,null,null,null,null,null,null,null,null,16,90.020889522821577,85.050663940290292,79.514459698335202,89.171218325327516,91.020889522821577,86.050663940290292,80.514459698335202,-4059.2401238750399,-143.37341475692011,-62.086814486863098,-4264.7003531188229,4.153294574804599E-3,4.623506246130725E-2,6.4421195526563942E-3,6.510329081932012E-2,1.2273956924461463E-2,0.1011819708139116,118.97188837419998,119.35941835919998,119.02750092055847,484.51899164999992,489.78860100000014,484.65039263139658,684.47463119999952,686.61756179999986,684.36008570408751,122.24195071799998,122.81526485259997,122.25392697669864,507.22163925000001,513.57405540000002,507.54347768252268,689.12963999999965,692.01086579999969,687.7306887559032,1.4253279142576633E-2,5.6185582917576719E-3,8.2723362459491705E-4,2.0699071058929222E-2,{"$f":"RHA[[#This Row],[VägTyp]]&RHA[[#This Row],[Skyltad hastighet]]","v":"MLV90"}]
[6,"XX","XX","XX","TEST","Riksväg",16264,1,"MLV",110,"Nej","Nej",100,"Nej",13,0.9,0.05,4.9999999999999933E-2,0.88038277511961727,0.79904306220095689,104.5,92,83.5,0.75,0.89900000000000002,0.90500000000000003,72.5,103.375,90.030499999999989,90.030499999999989,82.454999999999998,82.454999999999998,5.3427239999999996,0.29681800000000003,0.29681799999999958,6.4854732999999989,104.5,92,83.5,102.82499999999999,105.5,93,84.5,null,null,null,null,null,null,null,null,null,17,102.2,92,83,100.48079931501999,103.2,93,84,1150.5974025974015,0,21.41389510136348,1172.011297698765,9.6568200162658975E-4,0.11427998352049787,8.4283367398772097E-4,0.10277754480742488,-7.9672954885153544E-4,-7.4598759158521252E-2,132.68354254720001,134.59984800759997,133.6416952774,0,0,0,702.86942879999958,702.86942879999958,702.86942879999958,130.87339945799999,131.76520070619998,131.05175970764,0,0,0,698.8807601999996,702.86942879999958,698.8807601999996,-1.3837310927010434E-2,0,-1.1839086365147934E-3,-1.5021219563525227E-2,{"$f":"RHA[[#This Row],[VägTyp]]&RHA[[#This Row],[Skyltad hastighet]]","v":"MLV110"}]
[7,"XX","XX","XX","TEST","Riksväg",19080,1,"MV",110,"Nej","Nej",120,"Nej",14,0.9,0.05,4.9999999999999933E-2,0.85321100917431192,0.77522935779816515,109,93,84.5,0.75,0.89900000000000002,0.90500000000000003,72.5,106.75,90.92949999999999,90.92949999999999,83.36,83.36,6.2677800000000001,0.34821000000000002,0.34820999999999952,7.6083884999999984,109,93,84.5,106.97500000000001,110,94,85.5,null,null,null,null,null,null,null,null,null,18,112.7,96.2,84.5,109.92309270133281,113.7,97.2,85.5,-1887.8394373305803,-124.54697874052785,0,-2012.3864160711082,5.2625220222531652E-4,7.8323539435026391E-3,6.1780742557504596E-4,8.875705134828344E-3,6.9658770844901281E-4,7.9382212055437908E-3,137.67336064419999,138.75094604199998,137.67336064419999,0,0,0,702.86942879999958,711.95420879999972,707.41181879999965,142.14294579220001,143.32669356119999,141.78782146150002,0,0,0,702.86942879999958,711.95420879999972,707.41181879999965,2.5788535221456771E-2,0,0,2.5788535221456771E-2,{"$f":"RHA[[#This Row],[VägTyp]]&RHA[[#This Row],[Skyltad hastighet]]","v":"MV110"}]
[null,null,null,null,null,null,null,null,null,null,null,null,null,null,null,null,null,null,null,null,null,null,null,null,null,null,null,null,null,null,null,null,null,null,null,null,null,null,null,null,null,null,null,null,null,null,null,null,null,null,null,null,null,null,null,null,null,null,null,null,null,null,null,null,null,null,null,null,null,null,null,null,null,null,null,null,null,null,null,null,null,null,null,null,null,null,null,null,null,null,null,null,{"$f":"RHA[[#This Row],[VägTyp]]&RHA[[#This Row],[Skyltad hastighet]]","v":""}]
[null,null,null,null,null,null,null,null,null,null,null,null,null,null,null,null,null,null,null,null,null,null,null,null,null,null,null,null,null,null,null,null,null,null,null,null,null,null,null,null,null,null,null,null,null,null,null,null,null,null,null,null,null,null,null,null,null,null,null,null,null,null,null,null,null,null,null,null,null,null,null,null,null,null,null,null,null,null,null,null,null,null,null,null,null,null,null,null,null,null,null,null,{"$f":"RHA[[#This Row],[VägTyp]]&RHA[[#This Row],[Skyltad hastighet]]","v":""}]
[null,null,null,null,null,null,null,null,null,null,null,null,null,null,null,null,null,null,null,null,null,null,null,null,null,null,null,null,null,null,null,null,null,null,null,null,null,null,null,null,null,null,null,null,null,null,null,null,null,null,null,null,null,null,null,null,null,null,null,null,null,null,null,null,null,null,null,null,null,null,null,null,null,null,null,null,null,null,null,null,null,null,null,null,null,null,null,null,null,null,null,null,{"$f":"RHA[[#This Row],[VägTyp]]&RHA[[#This Row],[Skyltad hastighet]]","v":""}]
[null,null,null,null,null,null,null,null,null,null,null,null,null,null,null,null,null,null,null,null,null,null,null,null,null,null,null,null,null,null,null,null,null,null,null,null,null,null,null,null,null,null,null,null,null,null,null,null,null,null,null,null,null,null,null,null,null,null,null,null,null,null,null,null,null,null,null,null,null,null,null,null,null,null,null,null,null,null,null,null,null,null,null,null,null,null,null,null,null,null,null,null,{"$f":"RHA[[#This Row],[VägTyp]]&RHA[[#This Row],[Skyltad hastighet]]","v":""}]
[null,null,null,null,null,null,null,null,null,null,null,null,null,null,null,null,null,null,null,null,null,null,null,null,null,null,null,null,null,null,null,null,null,null,null,null,null,null,null,null,null,null,null,null,null,null,null,null,null,null,null,null,null,null,null,null,null,null,null,null,null,null,null,null,null,null,null,null,null,null,null,null,null,null,null,null,null,null,null,null,null,null,null,null,null,null,null,null,null,null,null,null,{"$f":"RHA[[#This Row],[VägTyp]]&RHA[[#This Row],[Skyltad hastighet]]","v":""}]
[null,null,null,null,null,null,null,null,null,null,null,null,null,null,null,null,null,null,null,null,null,null,null,null,null,null,null,null,null,null,null,null,null,null,null,null,null,null,null,null,null,null,null,null,null,null,null,null,null,null,null,null,null,null,null,null,null,null,null,null,null,null,null,null,null,null,null,null,null,null,null,null,null,null,null,null,null,null,null,null,null,null,null,null,null,null,null,null,null,null,null,null,{"$f":"RHA[[#This Row],[VägTyp]]&RHA[[#This Row],[Skyltad hastighet]]","v":""}]
[null,null,null,null,null,null,null,null,null,null,null,null,null,null,null,null,null,null,null,null,null,null,null,null,null,null,null,null,null,null,null,null,null,null,null,null,null,null,null,null,null,null,null,null,null,null,null,null,null,null,null,null,null,null,null,null,null,null,null,null,null,null,null,null,null,null,null,null,null,null,null,null,null,null,null,null,null,null,null,null,null,null,null,null,null,null,null,null,null,null,null,null,{"$f":"RHA[[#This Row],[VägTyp]]&RHA[[#This Row],[Skyltad hastighet]]","v":""}]
[null,null,null,null,null,null,null,null,null,null,null,null,null,null,null,null,null,null,null,null,null,null,null,null,null,null,null,null,null,null,null,null,null,null,null,null,null,null,null,null,null,null,null,null,null,null,null,null,null,null,null,null,null,null,null,null,null,null,null,null,null,null,null,null,null,null,null,null,null,null,null,null,null,null,null,null,null,null,null,null,null,null,null,null,null,null,null,null,null,null,null,null,{"$f":"RHA[[#This Row],[VägTyp]]&RHA[[#This Row],[Skyltad hastighet]]","v":""}]
[null,null,null,null,null,null,null,null,null,null,null,null,null,null,null,null,null,null,null,null,null,null,null,null,null,null,null,null,null,null,null,null,null,null,null,null,null,null,null,null,null,null,null,null,null,null,null,null,null,null,null,null,null,null,null,null,null,null,null,null,null,null,null,null,null,null,null,null,null,null,null,null,null,null,null,null,null,null,null,null,null,null,null,null,null,null,null,null,null,null,null,null,{"$f":"RHA[[#This Row],[VägTyp]]&RHA[[#This Row],[Skyltad hastighet]]","v":""}]
[null,null,null,null,null,null,null,null,null,null,null,null,null,null,null,null,null,null,null,null,null,null,null,null,null,null,null,null,null,null,null,null,null,null,null,null,null,null,null,null,null,null,null,null,null,null,null,null,null,null,null,null,null,null,null,null,null,null,null,null,null,null,null,null,null,null,null,null,null,null,null,null,null,null,null,null,null,null,null,null,null,null,null,null,null,null,null,null,null,null,null,null,{"$f":"RHA[[#This Row],[VägTyp]]&RHA[[#This Row],[Skyltad hastighet]]","v":""}]
[null,null,null,null,null,null,null,null,null,null,null,null,null,null,null,null,null,null,null,null,null,null,null,null,null,null,null,null,null,null,null,null,null,null,null,null,null,null,null,null,null,null,null,null,null,null,null,null,null,null,null,null,null,null,null,null,null,null,null,null,null,null,null,null,null,null,null,null,null,null,null,null,null,null,null,null,null,null,null,null,null,null,null,null,null,null,null,null,null,null,null,null,{"$f":"RHA[[#This Row],[VägTyp]]&RHA[[#This Row],[Skyltad hastighet]]","v":""}]
[null,null,null,null,null,null,null,null,null,null,null,null,null,null,null,null,null,null,null,null,null,null,null,null,null,null,null,null,null,null,null,null,null,null,null,null,null,null,null,null,null,null,null,null,null,null,null,null,null,null,null,null,null,null,null,null,null,null,null,null,null,null,null,null,null,null,null,null,null,null,null,null,null,null,null,null,null,null,null,null,null,null,null,null,null,null,null,null,null,null,null,null,{"$f":"RHA[[#This Row],[VägTyp]]&RHA[[#This Row],[Skyltad hastighet]]","v":""}]
[null,null,null,null,null,null,null,null,null,null,null,null,null,null,null,null,null,null,null,null,null,null,null,null,null,null,null,null,null,null,null,null,null,null,null,null,null,null,null,null,null,null,null,null,null,null,null,null,null,null,null,null,null,null,null,null,null,null,null,null,null,null,null,null,null,null,null,null,null,null,null,null,null,null,null,null,null,null,null,null,null,null,null,null,null,null,null,null,null,null,null,null,{"$f":"RHA[[#This Row],[VägTyp]]&RHA[[#This Row],[Skyltad hastighet]]","v":""}]
[null,null,null,null,null,null,null,null,null,null,null,null,null,null,null,null,null,null,null,null,null,null,null,null,null,null,null,null,null,null,null,null,null,null,null,null,null,null,null,null,null,null,null,null,null,null,null,null,null,null,null,null,null,null,null,null,null,null,null,null,null,null,null,null,null,null,null,null,null,null,null,null,null,null,null,null,null,null,null,null,null,null,null,null,null,null,null,null,null,null,null,null,{"$f":"RHA[[#This Row],[VägTyp]]&RHA[[#This Row],[Skyltad hastighet]]","v":""}]
[null,null,null,null,null,null,null,null,null,null,null,null,null,null,null,null,null,null,null,null,null,null,null,null,null,null,null,null,null,null,null,null,null,null,null,null,null,null,null,null,null,null,null,null,null,null,null,null,null,null,null,null,null,null,null,null,null,null,null,null,null,null,null,null,null,null,null,null,null,null,null,null,null,null,null,null,null,null,null,null,null,null,null,null,null,null,null,null,null,null,null,null,{"$f":"RHA[[#This Row],[VägTyp]]&RHA[[#This Row],[Skyltad hastighet]]","v":""}]
[null,null,null,null,null,null,null,null,null,null,null,null,null,null,null,null,null,null,null,null,null,null,null,null,null,null,null,null,null,null,null,null,null,null,null,null,null,null,null,null,null,null,null,null,null,null,null,null,null,null,null,null,null,null,null,null,null,null,null,null,null,null,null,null,null,null,null,null,null,null,null,null,null,null,null,null,null,null,null,null,null,null,null,null,null,null,null,null,null,null,null,null,{"$f":"RHA[[#This Row],[VägTyp]]&RHA[[#This Row],[Skyltad hastighet]]","v":""}]
[null,null,null,null,null,null,null,null,null,null,null,null,null,null,null,null,null,null,null,null,null,null,null,null,null,null,null,null,null,null,null,null,null,null,null,null,null,null,null,null,null,null,null,null,null,null,null,null,null,null,null,null,null,null,null,null,null,null,null,null,null,null,null,null,null,null,null,null,null,null,null,null,null,null,null,null,null,null,null,null,null,null,null,null,null,null,null,null,null,null,null,null,{"$f":"RHA[[#This Row],[VägTyp]]&RHA[[#This Row],[Skyltad hastighet]]","v":""}]
[null,null,null,null,null,null,null,null,null,null,null,null,null,null,null,null,null,null,null,null,null,null,null,null,null,null,null,null,null,null,null,null,null,null,null,null,null,null,null,null,null,null,null,null,null,null,null,null,null,null,null,null,null,null,null,null,null,null,null,null,null,null,null,null,null,null,null,null,null,null,null,null,null,null,null,null,null,null,null,null,null,null,null,null,null,null,null,null,null,null,null,null,{"$f":"RHA[[#This Row],[VägTyp]]&RHA[[#This Row],[Skyltad hastighet]]","v":""}]
[null,null,null,null,null,null,null,null,null,null,null,null,null,null,null,null,null,null,null,null,null,null,null,null,null,null,null,null,null,null,null,null,null,null,null,null,null,null,null,null,null,null,null,null,null,null,null,null,null,null,null,null,null,null,null,null,null,null,null,null,null,null,null,null,null,null,null,null,null,null,null,null,null,null,null,null,null,null,null,null,null,null,null,null,null,null,null,null,null,null,null,null,{"$f":"RHA[[#This Row],[VägTyp]]&RHA[[#This Row],[Skyltad hastighet]]","v":""}]
[null,null,null,null,null,null,null,null,null,null,null,null,null,null,null,null,null,null,null,null,null,null,null,null,null,null,null,null,null,null,null,null,null,null,null,null,null,null,null,null,null,null,null,null,null,null,null,null,null,null,null,null,null,null,null,null,null,null,null,null,null,null,null,null,null,null,null,null,null,null,null,null,null,null,null,null,null,null,null,null,null,null,null,null,null,null,null,null,null,null,null,null,{"$f":"RHA[[#This Row],[VägTyp]]&RHA[[#This Row],[Skyltad hastighet]]","v":""}]
[null,null,null,null,null,null,null,null,null,null,null,null,null,null,null,null,null,null,null,null,null,null,null,null,null,null,null,null,null,null,null,null,null,null,null,null,null,null,null,null,null,null,null,null,null,null,null,null,null,null,null,null,null,null,null,null,null,null,null,null,null,null,null,null,null,null,null,null,null,null,null,null,null,null,null,null,null,null,null,null,null,null,null,null,null,null,null,null,null,null,null,null,{"$f":"RHA[[#This Row],[VägTyp]]&RHA[[#This Row],[Skyltad hastighet]]","v":""}]
[null,null,null,null,null,null,null,null,null,null,null,null,null,null,null,null,null,null,null,null,null,null,null,null,null,null,null,null,null,null,null,null,null,null,null,null,null,null,null,null,null,null,null,null,null,null,null,null,null,null,null,null,null,null,null,null,null,null,null,null,null,null,null,null,null,null,null,null,null,null,null,null,null,null,null,null,null,null,null,null,null,null,null,null,null,null,null,null,null,null,null,null,{"$f":"RHA[[#This Row],[VägTyp]]&RHA[[#This Row],[Skyltad hastighet]]","v":""}]
[null,null,null,null,null,null,null,null,null,null,null,null,null,null,null,null,null,null,null,null,null,null,null,null,null,null,null,null,null,null,null,null,null,null,null,null,null,null,null,null,null,null,null,null,null,null,null,null,null,null,null,null,null,null,null,null,null,null,null,null,null,null,null,null,null,null,null,null,null,null,null,null,null,null,null,null,null,null,null,null,null,null,null,null,null,null,null,null,null,null,null,null,{"$f":"RHA[[#This Row],[VägTyp]]&RHA[[#This Row],[Skyltad hastighet]]","v":""}]
[null,null,null,null,null,null,null,null,null,null,null,null,null,null,null,null,null,null,null,null,null,null,null,null,null,null,null,null,null,null,null,null,null,null,null,null,null,null,null,null,null,null,null,null,null,null,null,null,null,null,null,null,null,null,null,null,null,null,null,null,null,null,null,null,null,null,null,null,null,null,null,null,null,null,null,null,null,null,null,null,null,null,null,null,null,null,null,null,null,null,null,null,{"$f":"RHA[[#This Row],[VägTyp]]&RHA[[#This Row],[Skyltad hastighet]]","v":""}]
[null,null,null,null,null,null,null,null,null,null,null,null,null,null,null,null,null,null,null,null,null,null,null,null,null,null,null,null,null,null,null,null,null,null,null,null,null,null,null,null,null,null,null,null,null,null,null,null,null,null,null,null,null,null,null,null,null,null,null,null,null,null,null,null,null,null,null,null,null,null,null,null,null,null,null,null,null,null,null,null,null,null,null,null,null,null,null,null,null,null,null,null,{"$f":"RHA[[#This Row],[VägTyp]]&RHA[[#This Row],[Skyltad hastighet]]","v":""}]
[null,null,null,null,null,null,null,null,null,null,null,null,null,null,null,null,null,null,null,null,null,null,null,null,null,null,null,null,null,null,null,null,null,null,null,null,null,null,null,null,null,null,null,null,null,null,null,null,null,null,null,null,null,null,null,null,null,null,null,null,null,null,null,null,null,null,null,null,null,null,null,null,null,null,null,null,null,null,null,null,null,null,null,null,null,null,null,null,null,null,null,null,{"$f":"RHA[[#This Row],[VägTyp]]&RHA[[#This Row],[Skyltad hastighet]]","v":""}]
[null,null,null,null,null,null,null,null,null,null,null,null,null,null,null,null,null,null,null,null,null,null,null,null,null,null,null,null,null,null,null,null,null,null,null,null,null,null,null,null,null,null,null,null,null,null,null,null,null,null,null,null,null,null,null,null,null,null,null,null,null,null,null,null,null,null,null,null,null,null,null,null,null,null,null,null,null,null,null,null,null,null,null,null,null,null,null,null,null,null,null,null,{"$f":"RHA[[#This Row],[VägTyp]]&RHA[[#This Row],[Skyltad hastighet]]","v":""}]
[null,null,null,null,null,null,null,null,null,null,null,null,null,null,null,null,null,null,null,null,null,null,null,null,null,null,null,null,null,null,null,null,null,null,null,null,null,null,null,null,null,null,null,null,null,null,null,null,null,null,null,null,null,null,null,null,null,null,null,null,null,null,null,null,null,null,null,null,null,null,null,null,null,null,null,null,null,null,null,null,null,null,null,null,null,null,null,null,null,null,null,null,{"$f":"RHA[[#This Row],[VägTyp]]&RHA[[#This Row],[Skyltad hastighet]]","v":""}]
[null,null,null,null,null,null,null,null,null,null,null,null,null,null,null,null,null,null,null,null,null,null,null,null,null,null,null,null,null,null,null,null,null,null,null,null,null,null,null,null,null,null,null,null,null,null,null,null,null,null,null,null,null,null,null,null,null,null,null,null,null,null,null,null,null,null,null,null,null,null,null,null,null,null,null,null,null,null,null,null,null,null,null,null,null,null,null,null,null,null,null,null,{"$f":"RHA[[#This Row],[VägTyp]]&RHA[[#This Row],[Skyltad hastighet]]","v":""}]
[null,null,null,null,null,null,null,null,null,null,null,null,null,null,null,null,null,null,null,null,null,null,null,null,null,null,null,null,null,null,null,null,null,null,null,null,null,null,null,null,null,null,null,null,null,null,null,null,null,null,null,null,null,null,null,null,null,null,null,null,null,null,null,null,null,null,null,null,null,null,null,null,null,null,null,null,null,null,null,null,null,null,null,null,null,null,null,null,null,null,null,null,{"$f":"RHA[[#This Row],[VägTyp]]&RHA[[#This Row],[Skyltad hastighet]]","v":""}]
[null,null,null,null,null,null,null,null,null,null,null,null,null,null,null,null,null,null,null,null,null,null,null,null,null,null,null,null,null,null,null,null,null,null,null,null,null,null,null,null,null,null,null,null,null,null,null,null,null,null,null,null,null,null,null,null,null,null,null,null,null,null,null,null,null,null,null,null,null,null,null,null,null,null,null,null,null,null,null,null,null,null,null,null,null,null,null,null,null,null,null,null,{"$f":"RHA[[#This Row],[VägTyp]]&RHA[[#This Row],[Skyltad hastighet]]","v":""}]
[null,null,null,null,null,null,null,null,null,null,null,null,null,null,null,null,null,null,null,null,null,null,null,null,null,null,null,null,null,null,null,null,null,null,null,null,null,null,null,null,null,null,null,null,null,null,null,null,null,null,null,null,null,null,null,null,null,null,null,null,null,null,null,null,null,null,null,null,null,null,null,null,null,null,null,null,null,null,null,null,null,null,null,null,null,null,null,null,null,null,null,null,{"$f":"RHA[[#This Row],[VägTyp]]&RHA[[#This Row],[Skyltad hastighet]]","v":""}]
[null,null,null,null,null,null,null,null,null,null,null,null,null,null,null,null,null,null,null,null,null,null,null,null,null,null,null,null,null,null,null,null,null,null,null,null,null,null,null,null,null,null,null,null,null,null,null,null,null,null,null,null,null,null,null,null,null,null,null,null,null,null,null,null,null,null,null,null,null,null,null,null,null,null,null,null,null,null,null,null,null,null,null,null,null,null,null,null,null,null,null,null,{"$f":"RHA[[#This Row],[VägTyp]]&RHA[[#This Row],[Skyltad hastighet]]","v":""}]
[null,null,null,null,null,null,null,null,null,null,null,null,null,null,null,null,null,null,null,null,null,null,null,null,null,null,null,null,null,null,null,null,null,null,null,null,null,null,null,null,null,null,null,null,null,null,null,null,null,null,null,null,null,null,null,null,null,null,null,null,null,null,null,null,null,null,null,null,null,null,null,null,null,null,null,null,null,null,null,null,null,null,null,null,null,null,null,null,null,null,null,null,{"$f":"RHA[[#This Row],[VägTyp]]&RHA[[#This Row],[Skyltad hastighet]]","v":""}]
[null,null,null,null,null,null,null,null,null,null,null,null,null,null,null,null,null,null,null,null,null,null,null,null,null,null,null,null,null,null,null,null,null,null,null,null,null,null,null,null,null,null,null,null,null,null,null,null,null,null,null,null,null,null,null,null,null,null,null,null,null,null,null,null,null,null,null,null,null,null,null,null,null,null,null,null,null,null,null,null,null,null,null,null,null,null,null,null,null,null,null,null,{"$f":"RHA[[#This Row],[VägTyp]]&RHA[[#This Row],[Skyltad hastighet]]","v":""}]
[null,null,null,null,null,null,null,null,null,null,null,null,null,null,null,null,null,null,null,null,null,null,null,null,null,null,null,null,null,null,null,null,null,null,null,null,null,null,null,null,null,null,null,null,null,null,null,null,null,null,null,null,null,null,null,null,null,null,null,null,null,null,null,null,null,null,null,null,null,null,null,null,null,null,null,null,null,null,null,null,null,null,null,null,null,null,null,null,null,null,null,null,{"$f":"RHA[[#This Row],[VägTyp]]&RHA[[#This Row],[Skyltad hastighet]]","v":""}]
[null,null,null,null,null,null,null,null,null,null,null,null,null,null,null,null,null,null,null,null,null,null,null,null,null,null,null,null,null,null,null,null,null,null,null,null,null,null,null,null,null,null,null,null,null,null,null,null,null,null,null,null,null,null,null,null,null,null,null,null,null,null,null,null,null,null,null,null,null,null,null,null,null,null,null,null,null,null,null,null,null,null,null,null,null,null,null,null,null,null,null,null,{"$f":"RHA[[#This Row],[VägTyp]]&RHA[[#This Row],[Skyltad hastighet]]","v":""}]
[null,null,null,null,null,null,null,null,null,null,null,null,null,null,null,null,null,null,null,null,null,null,null,null,null,null,null,null,null,null,null,null,null,null,null,null,null,null,null,null,null,null,null,null,null,null,null,null,null,null,null,null,null,null,null,null,null,null,null,null,null,null,null,null,null,null,null,null,null,null,null,null,null,null,null,null,null,null,null,null,null,null,null,null,null,null,null,null,null,null,null,null,{"$f":"RHA[[#This Row],[VägTyp]]&RHA[[#This Row],[Skyltad hastighet]]","v":""}]
[null,null,null,null,null,null,null,null,null,null,null,null,null,null,null,null,null,null,null,null,null,null,null,null,null,null,null,null,null,null,null,null,null,null,null,null,null,null,null,null,null,null,null,null,null,null,null,null,null,null,null,null,null,null,null,null,null,null,null,null,null,null,null,null,null,null,null,null,null,null,null,null,null,null,null,null,null,null,null,null,null,null,null,null,null,null,null,null,null,null,null,null,{"$f":"RHA[[#This Row],[VägTyp]]&RHA[[#This Row],[Skyltad hastighet]]","v":""}]
[null,null,null,null,null,null,null,null,null,null,null,null,null,null,null,null,null,null,null,null,null,null,null,null,null,null,null,null,null,null,null,null,null,null,null,null,null,null,null,null,null,null,null,null,null,null,null,null,null,null,null,null,null,null,null,null,null,null,null,null,null,null,null,null,null,null,null,null,null,null,null,null,null,null,null,null,null,null,null,null,null,null,null,null,null,null,null,null,null,null,null,null,{"$f":"RHA[[#This Row],[VägTyp]]&RHA[[#This Row],[Skyltad hastighet]]","v":""}]
[null,null,null,null,null,null,null,null,null,null,null,null,null,null,null,null,null,null,null,null,null,null,null,null,null,null,null,null,null,null,null,null,null,null,null,null,null,null,null,null,null,null,null,null,null,null,null,null,null,null,null,null,null,null,null,null,null,null,null,null,null,null,null,null,null,null,null,null,null,null,null,null,null,null,null,null,null,null,null,null,null,null,null,null,null,null,null,null,null,null,null,null,{"$f":"RHA[[#This Row],[VägTyp]]&RHA[[#This Row],[Skyltad hastighet]]","v":""}]
[null,null,null,null,null,null,null,null,null,null,null,null,null,null,null,null,null,null,null,null,null,null,null,null,null,null,null,null,null,null,null,null,null,null,null,null,null,null,null,null,null,null,null,null,null,null,null,null,null,null,null,null,null,null,null,null,null,null,null,null,null,null,null,null,null,null,null,null,null,null,null,null,null,null,null,null,null,null,null,null,null,null,null,null,null,null,null,null,null,null,null,null,{"$f":"RHA[[#This Row],[VägTyp]]&RHA[[#This Row],[Skyltad hastighet]]","v":""}]
[null,null,null,null,null,null,null,null,null,null,null,null,null,null,null,null,null,null,null,null,null,null,null,null,null,null,null,null,null,null,null,null,null,null,null,null,null,null,null,null,null,null,null,null,null,null,null,null,null,null,null,null,null,null,null,null,null,null,null,null,null,null,null,null,null,null,null,null,null,null,null,null,null,null,null,null,null,null,null,null,null,null,null,null,null,null,null,null,null,null,null,null,{"$f":"RHA[[#This Row],[VägTyp]]&RHA[[#This Row],[Skyltad hastighet]]","v":""}]
[null,null,null,null,null,null,null,null,null,null,null,null,null,null,null,null,null,null,null,null,null,null,null,null,null,null,null,null,null,null,null,null,null,null,null,null,null,null,null,null,null,null,null,null,null,null,null,null,null,null,null,null,null,null,null,null,null,null,null,null,null,null,null,null,null,null,null,null,null,null,null,null,null,null,null,null,null,null,null,null,null,null,null,null,null,null,null,null,null,null,null,null,{"$f":"RHA[[#This Row],[VägTyp]]&RHA[[#This Row],[Skyltad hastighet]]","v":""}]
[null,null,null,null,null,null,null,null,null,null,null,null,null,null,null,null,null,null,null,null,null,null,null,null,null,null,null,null,null,null,null,null,null,null,null,null,null,null,null,null,null,null,null,null,null,null,null,null,null,null,null,null,null,null,null,null,null,null,null,null,null,null,null,null,null,null,null,null,null,null,null,null,null,null,null,null,null,null,null,null,null,null,null,null,null,null,null,null,null,null,null,null,{"$f":"RHA[[#This Row],[VägTyp]]&RHA[[#This Row],[Skyltad hastighet]]","v":""}]
[null,null,null,null,null,null,null,null,null,null,null,null,null,null,null,null,null,null,null,null,null,null,null,null,null,null,null,null,null,null,null,null,null,null,null,null,null,null,null,null,null,null,null,null,null,null,null,null,null,null,null,null,null,null,null,null,null,null,null,null,null,null,null,null,null,null,null,null,null,null,null,null,null,null,null,null,null,null,null,null,null,null,null,null,null,null,null,null,null,null,null,null,{"$f":"RHA[[#This Row],[VägTyp]]&RHA[[#This Row],[Skyltad hastighet]]","v":""}]
[null,null,null,null,null,null,null,null,null,null,null,null,null,null,null,null,null,null,null,null,null,null,null,null,null,null,null,null,null,null,null,null,null,null,null,null,null,null,null,null,null,null,null,null,null,null,null,null,null,null,null,null,null,null,null,null,null,null,null,null,null,null,null,null,null,null,null,null,null,null,null,null,null,null,null,null,null,null,null,null,null,null,null,null,null,null,null,null,null,null,null,null,{"$f":"RHA[[#This Row],[VägTyp]]&RHA[[#This Row],[Skyltad hastighet]]","v":""}]
[null,null,null,null,null,null,null,null,null,null,null,null,null,null,null,null,null,null,null,null,null,null,null,null,null,null,null,null,null,null,null,null,null,null,null,null,null,null,null,null,null,null,null,null,null,null,null,null,null,null,null,null,null,null,null,null,null,null,null,null,null,null,null,null,null,null,null,null,null,null,null,null,null,null,null,null,null,null,null,null,null,null,null,null,null,null,null,null,null,null,null,null,{"$f":"RHA[[#This Row],[VägTyp]]&RHA[[#This Row],[Skyltad hastighet]]","v":""}]
[null,null,null,null,null,null,null,null,null,null,null,null,null,null,null,null,null,null,null,null,null,null,null,null,null,null,null,null,null,null,null,null,null,null,null,null,null,null,null,null,null,null,null,null,null,null,null,null,null,null,null,null,null,null,null,null,null,null,null,null,null,null,null,null,null,null,null,null,null,null,null,null,null,null,null,null,null,null,null,null,null,null,null,null,null,null,null,null,null,null,null,null,{"$f":"RHA[[#This Row],[VägTyp]]&RHA[[#This Row],[Skyltad hastighet]]","v":""}]
[null,null,null,null,null,null,null,null,null,null,null,null,null,null,null,null,null,null,null,null,null,null,null,null,null,null,null,null,null,null,null,null,null,null,null,null,null,null,null,null,null,null,null,null,null,null,null,null,null,null,null,null,null,null,null,null,null,null,null,null,null,null,null,null,null,null,null,null,null,null,null,null,null,null,null,null,null,null,null,null,null,null,null,null,null,null,null,null,null,null,null,null,{"$f":"RHA[[#This Row],[VägTyp]]&RHA[[#This Row],[Skyltad hastighet]]","v":""}]
[null,null,null,null,null,null,null,null,null,null,null,null,null,null,null,null,null,null,null,null,null,null,null,null,null,null,null,null,null,null,null,null,null,null,null,null,null,null,null,null,null,null,null,null,null,null,null,null,null,null,null,null,null,null,null,null,null,null,null,null,null,null,null,null,null,null,null,null,null,null,null,null,null,null,null,null,null,null,null,null,null,null,null,null,null,null,null,null,null,null,null,null,{"$f":"RHA[[#This Row],[VägTyp]]&RHA[[#This Row],[Skyltad hastighet]]","v":""}]
[null,null,null,null,null,null,null,null,null,null,null,null,null,null,null,null,null,null,null,null,null,null,null,null,null,null,null,null,null,null,null,null,null,null,null,null,null,null,null,null,null,null,null,null,null,null,null,null,null,null,null,null,null,null,null,null,null,null,null,null,null,null,null,null,null,null,null,null,null,null,null,null,null,null,null,null,null,null,null,null,null,null,null,null,null,null,null,null,null,null,null,null,{"$f":"RHA[[#This Row],[VägTyp]]&RHA[[#This Row],[Skyltad hastighet]]","v":""}]
[null,null,null,null,null,null,null,null,null,null,null,null,null,null,null,null,null,null,null,null,null,null,null,null,null,null,null,null,null,null,null,null,null,null,null,null,null,null,null,null,null,null,null,null,null,null,null,null,null,null,null,null,null,null,null,null,null,null,null,null,null,null,null,null,null,null,null,null,null,null,null,null,null,null,null,null,null,null,null,null,null,null,null,null,null,null,null,null,null,null,null,null,{"$f":"RHA[[#This Row],[VägTyp]]&RHA[[#This Row],[Skyltad hastighet]]","v":""}]
[null,null,null,null,null,null,null,null,null,null,null,null,null,null,null,null,null,null,null,null,null,null,null,null,null,null,null,null,null,null,null,null,null,null,null,null,null,null,null,null,null,null,null,null,null,null,null,null,null,null,null,null,null,null,null,null,null,null,null,null,null,null,null,null,null,null,null,null,null,null,null,null,null,null,null,null,null,null,null,null,null,null,null,null,null,null,null,null,null,null,null,null,{"$f":"RHA[[#This Row],[VägTyp]]&RHA[[#This Row],[Skyltad hastighet]]","v":""}]
[null,null,null,null,null,null,null,null,null,null,null,null,null,null,null,null,null,null,null,null,null,null,null,null,null,null,null,null,null,null,null,null,null,null,null,null,null,null,null,null,null,null,null,null,null,null,null,null,null,null,null,null,null,null,null,null,null,null,null,null,null,null,null,null,null,null,null,null,null,null,null,null,null,null,null,null,null,null,null,null,null,null,null,null,null,null,null,null,null,null,null,null,{"$f":"RHA[[#This Row],[VägTyp]]&RHA[[#This Row],[Skyltad hastighet]]","v":""}]
[null,null,null,null,null,null,null,null,null,null,null,null,null,null,null,null,null,null,null,null,null,null,null,null,null,null,null,null,null,null,null,null,null,null,null,null,null,null,null,null,null,null,null,null,null,null,null,null,null,null,null,null,null,null,null,null,null,null,null,null,null,null,null,null,null,null,null,null,null,null,null,null,null,null,null,null,null,null,null,null,null,null,null,null,null,null,null,null,null,null,null,null,{"$f":"RHA[[#This Row],[VägTyp]]&RHA[[#This Row],[Skyltad hastighet]]","v":""}]
[null,null,null,null,null,null,null,null,null,null,null,null,null,null,null,null,null,null,null,null,null,null,null,null,null,null,null,null,null,null,null,null,null,null,null,null,null,null,null,null,null,null,null,null,null,null,null,null,null,null,null,null,null,null,null,null,null,null,null,null,null,null,null,null,null,null,null,null,null,null,null,null,null,null,null,null,null,null,null,null,null,null,null,null,null,null,null,null,null,null,null,null,{"$f":"RHA[[#This Row],[VägTyp]]&RHA[[#This Row],[Skyltad hastighet]]","v":""}]
[null,null,null,null,null,null,null,null,null,null,null,null,null,null,null,null,null,null,null,null,null,null,null,null,null,null,null,null,null,null,null,null,null,null,null,null,null,null,null,null,null,null,null,null,null,null,null,null,null,null,null,null,null,null,null,null,null,null,null,null,null,null,null,null,null,null,null,null,null,null,null,null,null,null,null,null,null,null,null,null,null,null,null,null,null,null,null,null,null,null,null,null,{"$f":"RHA[[#This Row],[VägTyp]]&RHA[[#This Row],[Skyltad hastighet]]","v":""}]
[null,null,null,null,null,null,null,null,null,null,null,null,null,null,null,null,null,null,null,null,null,null,null,null,null,null,null,null,null,null,null,null,null,null,null,null,null,null,null,null,null,null,null,null,null,null,null,null,null,null,null,null,null,null,null,null,null,null,null,null,null,null,null,null,null,null,null,null,null,null,null,null,null,null,null,null,null,null,null,null,null,null,null,null,null,null,null,null,null,null,null,null,{"$f":"RHA[[#This Row],[VägTyp]]&RHA[[#This Row],[Skyltad hastighet]]","v":""}]
[null,null,null,null,null,null,null,null,null,null,null,null,null,null,null,null,null,null,null,null,null,null,null,null,null,null,null,null,null,null,null,null,null,null,null,null,null,null,null,null,null,null,null,null,null,null,null,null,null,null,null,null,null,null,null,null,null,null,null,null,null,null,null,null,null,null,null,null,null,null,null,null,null,null,null,null,null,null,null,null,null,null,null,null,null,null,null,null,null,null,null,null,{"$f":"RHA[[#This Row],[VägTyp]]&RHA[[#This Row],[Skyltad hastighet]]","v":""}]
[null,null,null,null,null,null,null,null,null,null,null,null,null,null,null,null,null,null,null,null,null,null,null,null,null,null,null,null,null,null,null,null,null,null,null,null,null,null,null,null,null,null,null,null,null,null,null,null,null,null,null,null,null,null,null,null,null,null,null,null,null,null,null,null,null,null,null,null,null,null,null,null,null,null,null,null,null,null,null,null,null,null,null,null,null,null,null,null,null,null,null,null,{"$f":"RHA[[#This Row],[VägTyp]]&RHA[[#This Row],[Skyltad hastighet]]","v":""}]
[null,null,null,null,null,null,null,null,null,null,null,null,null,null,null,null,null,null,null,null,null,null,null,null,null,null,null,null,null,null,null,null,null,null,null,null,null,null,null,null,null,null,null,null,null,null,null,null,null,null,null,null,null,null,null,null,null,null,null,null,null,null,null,null,null,null,null,null,null,null,null,null,null,null,null,null,null,null,null,null,null,null,null,null,null,null,null,null,null,null,null,null,{"$f":"RHA[[#This Row],[VägTyp]]&RHA[[#This Row],[Skyltad hastighet]]","v":""}]
[null,null,null,null,null,null,null,null,null,null,null,null,null,null,null,null,null,null,null,null,null,null,null,null,null,null,null,null,null,null,null,null,null,null,null,null,null,null,null,null,null,null,null,null,null,null,null,null,null,null,null,null,null,null,null,null,null,null,null,null,null,null,null,null,null,null,null,null,null,null,null,null,null,null,null,null,null,null,null,null,null,null,null,null,null,null,null,null,null,null,null,null,{"$f":"RHA[[#This Row],[VägTyp]]&RHA[[#This Row],[Skyltad hastighet]]","v":""}]
[null,null,null,null,null,null,null,null,null,null,null,null,null,null,null,null,null,null,null,null,null,null,null,null,null,null,null,null,null,null,null,null,null,null,null,null,null,null,null,null,null,null,null,null,null,null,null,null,null,null,null,null,null,null,null,null,null,null,null,null,null,null,null,null,null,null,null,null,null,null,null,null,null,null,null,null,null,null,null,null,null,null,null,null,null,null,null,null,null,null,null,null,{"$f":"RHA[[#This Row],[VägTyp]]&RHA[[#This Row],[Skyltad hastighet]]","v":""}]
[null,null,null,null,null,null,null,null,null,null,null,null,null,null,null,null,null,null,null,null,null,null,null,null,null,null,null,null,null,null,null,null,null,null,null,null,null,null,null,null,null,null,null,null,null,null,null,null,null,null,null,null,null,null,null,null,null,null,null,null,null,null,null,null,null,null,null,null,null,null,null,null,null,null,null,null,null,null,null,null,null,null,null,null,null,null,null,null,null,null,null,null,{"$f":"RHA[[#This Row],[VägTyp]]&RHA[[#This Row],[Skyltad hastighet]]","v":""}]
[null,null,null,null,null,null,null,null,null,null,null,null,null,null,null,null,null,null,null,null,null,null,null,null,null,null,null,null,null,null,null,null,null,null,null,null,null,null,null,null,null,null,null,null,null,null,null,null,null,null,null,null,null,null,null,null,null,null,null,null,null,null,null,null,null,null,null,null,null,null,null,null,null,null,null,null,null,null,null,null,null,null,null,null,null,null,null,null,null,null,null,null,{"$f":"RHA[[#This Row],[VägTyp]]&RHA[[#This Row],[Skyltad hastighet]]","v":""}]
[null,null,null,null,null,null,null,null,null,null,null,null,null,null,null,null,null,null,null,null,null,null,null,null,null,null,null,null,null,null,null,null,null,null,null,null,null,null,null,null,null,null,null,null,null,null,null,null,null,null,null,null,null,null,null,null,null,null,null,null,null,null,null,null,null,null,null,null,null,null,null,null,null,null,null,null,null,null,null,null,null,null,null,null,null,null,null,null,null,null,null,null,{"$f":"RHA[[#This Row],[VägTyp]]&RHA[[#This Row],[Skyltad hastighet]]","v":""}]
[null,null,null,null,null,null,null,null,null,null,null,null,null,null,null,null,null,null,null,null,null,null,null,null,null,null,null,null,null,null,null,null,null,null,null,null,null,null,null,null,null,null,null,null,null,null,null,null,null,null,null,null,null,null,null,null,null,null,null,null,null,null,null,null,null,null,null,null,null,null,null,null,null,null,null,null,null,null,null,null,null,null,null,null,null,null,null,null,null,null,null,null,{"$f":"RHA[[#This Row],[VägTyp]]&RHA[[#This Row],[Skyltad hastighet]]","v":""}]
[null,null,null,null,null,null,null,null,null,null,null,null,null,null,null,null,null,null,null,null,null,null,null,null,null,null,null,null,null,null,null,null,null,null,null,null,null,null,null,null,null,null,null,null,null,null,null,null,null,null,null,null,null,null,null,null,null,null,null,null,null,null,null,null,null,null,null,null,null,null,null,null,null,null,null,null,null,null,null,null,null,null,null,null,null,null,null,null,null,null,null,null,{"$f":"RHA[[#This Row],[VägTyp]]&RHA[[#This Row],[Skyltad hastighet]]","v":""}]
[null,null,null,null,null,null,null,null,null,null,null,null,null,null,null,null,null,null,null,null,null,null,null,null,null,null,null,null,null,null,null,null,null,null,null,null,null,null,null,null,null,null,null,null,null,null,null,null,null,null,null,null,null,null,null,null,null,null,null,null,null,null,null,null,null,null,null,null,null,null,null,null,null,null,null,null,null,null,null,null,null,null,null,null,null,null,null,null,null,null,null,null,{"$f":"RHA[[#This Row],[VägTyp]]&RHA[[#This Row],[Skyltad hastighet]]","v":""}]
[null,null,null,null,null,null,null,null,null,null,null,null,null,null,null,null,null,null,null,null,null,null,null,null,null,null,null,null,null,null,null,null,null,null,null,null,null,null,null,null,null,null,null,null,null,null,null,null,null,null,null,null,null,null,null,null,null,null,null,null,null,null,null,null,null,null,null,null,null,null,null,null,null,null,null,null,null,null,null,null,null,null,null,null,null,null,null,null,null,null,null,null,{"$f":"RHA[[#This Row],[VägTyp]]&RHA[[#This Row],[Skyltad hastighet]]","v":""}]
[null,null,null,null,null,null,null,null,null,null,null,null,null,null,null,null,null,null,null,null,null,null,null,null,null,null,null,null,null,null,null,null,null,null,null,null,null,null,null,null,null,null,null,null,null,null,null,null,null,null,null,null,null,null,null,null,null,null,null,null,null,null,null,null,null,null,null,null,null,null,null,null,null,null,null,null,null,null,null,null,null,null,null,null,null,null,null,null,null,null,null,null,{"$f":"RHA[[#This Row],[VägTyp]]&RHA[[#This Row],[Skyltad hastighet]]","v":""}]
[null,null,null,null,null,null,null,null,null,null,null,null,null,null,null,null,null,null,null,null,null,null,null,null,null,null,null,null,null,null,null,null,null,null,null,null,null,null,null,null,null,null,null,null,null,null,null,null,null,null,null,null,null,null,null,null,null,null,null,null,null,null,null,null,null,null,null,null,null,null,null,null,null,null,null,null,null,null,null,null,null,null,null,null,null,null,null,null,null,null,null,null,{"$f":"RHA[[#This Row],[VägTyp]]&RHA[[#This Row],[Skyltad hastighet]]","v":""}]
[]
[null,null,null,null,null,null,null,null,null,null,null,null,null,null,null,null,null,"Summa",null,null,null,null,null,null,null,null,null,null,null,null,null,null,null,null,null,null,null,null,null,null,null,null,null,null,null,null,null,null,null,null,null,null,null,null,null,null,null,null,null,null,{"$f":"SUM(RHA[Resultat Pb])","v":5193.932603545225},{"$f":"SUM(RHA[Resultat Lb])","v":177.04632505294029},{"$f":"SUM(RHA[Resultat Lbs])","v":307.27660344601554},{"$f":"SUM(RHA[Resultat tot])","v":5678.2555320441797},null,null,null,null,{"$f":"SUM(RHA[DkResultat])","v":-5.6335174567888075E-4},{"$f":"SUM(RHA[SskResultat])","v":-9.1130110409306728E-2},null,null,null,null,null,null,null,null,null,null,null,null,null,null,null,null,null,null,{"$f":"SUM(RHA[CO2 pb])","v":1.0834245282508899E-2},{"$f":"SUM(RHA[CO2 lb])","v":-1.581626964560735E-2},{"$f":"SUM(RHA[CO2 lbs])","v":-5.2288741707311453E-4},{"$f":"SUM(RHA[CO2 tot])","v":-5.5049117801715675E-3}]

{"sheet":"Beräkna ÅDT","index":2,"n_rows":75,"n_cols":12,"rows_kept":75,"cut":false,"hidden":false,"merged":[[33,9,33,10]]}
["Beräkning av ÅDT",null,null,null,null,null,null,null,null,"Trafiköppningsår",2028]
["Plats - Sträcka","Beskrivning av vilken stäcka som avses",null,null,null,null,null,null,null,"Trafikbasår",2019]
["Län - Lastbil","Välj län utefter geografisk plats, tabell J10:L32",null,null,null,null,null,null,null,"Prognosår 1",2045]
["Grupp - Personbil","Välj grupp utefter geografisk plats K37:M66, respektive kommuns gruppnummer återfinns i tabellen K68:L358"]
["ÅDT enligt TFK/TIKK","Återfinns på respektive länk i Trafikflödeskartan, använd senaste mätning",null,null,"http://vtf.trafikverket.se/SeTrafikinformation#"]
["Året för senaste trafikmätning enligt TFK/TIKK","Återfinns på respektive länk i Trafikflödeskartan, använd senaste mätning",null,null,"http://vtf.trafikverket.se/SeTrafikinformation#",null,null,null,null,"Trafikutvecklingstal för EVA och manuella beräkningar 2019-2045"]
["Trafikutveckling antal år",{"$f":"\"Beräknas automatiskt:\"&K1&\" -Året för senaste trafikmätning\"","v":"Beräknas automatiskt:2028 -Året för senaste trafikmätning"},null,null,null,null,null,null,null,"Trafikutvecklingstal finns på EVA:s sida på Trafikverket"]
[{"$f":"\"ÅDT\"&K1","v":"ÅDT2028"},"Kopiera och använd i \"Indata & Resultat\" för respektive stäcka",null,null,null,null,null,null,null,"Nedanstående trafikutvecklingstal gäller fr.o.m. 2024-04-02"]
[]
[]
["Plats - Sträcka","Lastbilsandel %","Län - Lastbil","Grupp - Personbil","ÅDT  enl. vägtrafikflödeskartan (TFK)","Senaste året för trafikmätning enl. TFK/TIKK","Trafikutveckling antal år","ÅDT 2028 (utifrån gällande trafikutvecklingstal)",null,"LASTBIL - Län","Prognos 2019-2045 [kvot] ","Årlig utveckling % "]
["TEST",0.1,"Östergötland","Skåne",2000,2019,{"$f":"IF(F12>0,$K$1-F12,\"0\")","v":9},{"$f":"E12*B12*(1+VLOOKUP(C12,Tabell43[],3,FALSE))^G12+E12*(1-B12)*(1+VLOOKUP(D12,Tabell57[],3,FALSE))^G12","v":2187.2093753577274},null,"Stockholm",1.2878848386541182,{"$f":"(K12^(1/($K$3-$K$2))-1)","v":9.7783142027498826E-3}]
["TEST",0.15,"Gotland","Östergötland",2000,2020,8,{"$f":"E13*B13*(1+VLOOKUP(C13,Tabell43[],3,FALSE))^G13+E13*(1-B13)*(1+VLOOKUP(D13,Tabell57[],3,FALSE))^G13","v":2146.5550501526213},null,"Uppsala",1.4014394737756353,1.3065381403121634E-2]
["TEST",0.2,"Västerbotten ","Västerbottens kust och inland",2000,2021,7,{"$f":"E14*B14*(1+VLOOKUP(C14,Tabell43[],3,FALSE))^G14+E14*(1-B14)*(1+VLOOKUP(D14,Tabell57[],3,FALSE))^G14","v":{"$error":"#N/A"}},null,"Södermanland",1.395218450371301,1.2892048835780434E-2]
[null,null,null,null,null,null,"0",{"$f":"E15*B15*(1+VLOOKUP(C15,Tabell43[],3,FALSE))^G15+E15*(1-B15)*(1+VLOOKUP(D15,Tabell57[],3,FALSE))^G15","v":{"$error":"#N/A"}},null,"Östergötland",1.4019160352895945,1.3078629019899646E-2]
[null,null,null,null,null,null,"0",{"$f":"E16*B16*(1+VLOOKUP(C16,Tabell43[],3,FALSE))^G16+E16*(1-B16)*(1+VLOOKUP(D16,Tabell57[],3,FALSE))^G16","v":{"$error":"#N/A"}},null,"Jönköping",1.3954193204997274,1.2897657157281417E-2]
[null,null,null,null,null,null,"0",{"$f":"E17*B17*(1+VLOOKUP(C17,Tabell43[],3,FALSE))^G17+E17*(1-B17)*(1+VLOOKUP(D17,Tabell57[],3,FALSE))^G17","v":{"$error":"#N/A"}},null,"Kronoberg",1.373447326421023,1.2279546519168516E-2]
[null,null,null,null,null,null,"0",{"$f":"E18*B18*(1+VLOOKUP(C18,Tabell43[],3,FALSE))^G18+E18*(1-B18)*(1+VLOOKUP(D18,Tabell57[],3,FALSE))^G18","v":{"$error":"#N/A"}},null,"Kalmar",1.3652634068002825,1.204688547114996E-2]
[null,null,null,null,null,null,"0",{"$f":"E19*B19*(1+VLOOKUP(C19,Tabell43[],3,FALSE))^G19+E19*(1-B19)*(1+VLOOKUP(D19,Tabell57[],3,FALSE))^G19","v":{"$error":"#N/A"}},null,"Gotland",1.2033161978049707,7.1439061808296067E-3]
[null,null,null,null,null,null,"0",{"$f":"E20*B20*(1+VLOOKUP(C20,Tabell43[],3,FALSE))^G20+E20*(1-B20)*(1+VLOOKUP(D20,Tabell57[],3,FALSE))^G20","v":{"$error":"#N/A"}},null,"Blekinge",1.3033330523291449,1.0241506954768109E-2]
[null,null,null,null,null,null,"0",{"$f":"E21*B21*(1+VLOOKUP(C21,Tabell43[],3,FALSE))^G21+E21*(1-B21)*(1+VLOOKUP(D21,Tabell57[],3,FALSE))^G21","v":{"$error":"#N/A"}},null,"Skåne",1.4053096530921483,1.3172840929408292E-2]
[null,null,null,null,null,null,"0",{"$f":"E22*B22*(1+VLOOKUP(C22,Tabell43[],3,FALSE))^G22+E22*(1-B22)*(1+VLOOKUP(D22,Tabell57[],3,FALSE))^G22","v":{"$error":"#N/A"}},null,"Halland",1.3364338634799364,1.1216467753107251E-2]
[null,null,null,null,null,null,"0",{"$f":"E23*B23*(1+VLOOKUP(C23,Tabell43[],3,FALSE))^G23+E23*(1-B23)*(1+VLOOKUP(D23,Tabell57[],3,FALSE))^G23","v":{"$error":"#N/A"}},null,"Västra Götaland",1.3968354669224681,1.293717414559703E-2]
[null,null,null,null,null,null,"0",{"$f":"E24*B24*(1+VLOOKUP(C24,Tabell43[],3,FALSE))^G24+E24*(1-B24)*(1+VLOOKUP(D24,Tabell57[],3,FALSE))^G24","v":{"$error":"#N/A"}},null,"Värmland",1.2740133743863367,9.3578229864477169E-3]
[null,null,null,null,null,null,"0",{"$f":"E25*B25*(1+VLOOKUP(C25,Tabell43[],3,FALSE))^G25+E25*(1-B25)*(1+VLOOKUP(D25,Tabell57[],3,FALSE))^G25","v":{"$error":"#N/A"}},null,"Örebro",1.4208647799734961,1.3601894092101441E-2]
[null,null,null,null,null,null,"0",{"$f":"E26*B26*(1+VLOOKUP(C26,Tabell43[],3,FALSE))^G26+E26*(1-B26)*(1+VLOOKUP(D26,Tabell57[],3,FALSE))^G26","v":{"$error":"#N/A"}},null,"Västmanland",1.4814662628812603,1.5231461638291366E-2]
[null,null,null,null,null,null,"0",{"$f":"E27*B27*(1+VLOOKUP(C27,Tabell43[],3,FALSE))^G27+E27*(1-B27)*(1+VLOOKUP(D27,Tabell57[],3,FALSE))^G27","v":{"$error":"#N/A"}},null,"Dalarna",1.3534752495683779,1.1709391486916854E-2]
[null,null,null,null,null,null,"0",{"$f":"E28*B28*(1+VLOOKUP(C28,Tabell43[],3,FALSE))^G28+E28*(1-B28)*(1+VLOOKUP(D28,Tabell57[],3,FALSE))^G28","v":{"$error":"#N/A"}},null,"Gävleborg",1.5140561982999055,1.6081486285890678E-2]
[null,null,null,null,null,null,"0",{"$f":"E29*B29*(1+VLOOKUP(C29,Tabell43[],3,FALSE))^G29+E29*(1-B29)*(1+VLOOKUP(D29,Tabell57[],3,FALSE))^G29","v":{"$error":"#N/A"}},null,"Västernorrland",1.64956703209719,1.9436979667228238E-2]
[null,null,null,null,null,null,"0",{"$f":"E30*B30*(1+VLOOKUP(C30,Tabell43[],3,FALSE))^G30+E30*(1-B30)*(1+VLOOKUP(D30,Tabell57[],3,FALSE))^G30","v":{"$error":"#N/A"}},null,"Jämtland",1.3764447816030629,1.2364427918910348E-2]
[null,null,null,null,null,null,"0",{"$f":"E31*B31*(1+VLOOKUP(C31,Tabell43[],3,FALSE))^G31+E31*(1-B31)*(1+VLOOKUP(D31,Tabell57[],3,FALSE))^G31","v":{"$error":"#N/A"}},null,"Västerbotten ",1.382980412599504,1.2548888171041161E-2]
[null,null,null,null,null,null,"0",{"$f":"E32*B32*(1+VLOOKUP(C32,Tabell43[],3,FALSE))^G32+E32*(1-B32)*(1+VLOOKUP(D32,Tabell57[],3,FALSE))^G32","v":{"$error":"#N/A"}},null,"Norrbotten ",1.3623480685847067,1.1963681121703651E-2]
[null,null,null,null,null,null,"0",{"$f":"E33*B33*(1+VLOOKUP(C33,Tabell43[],3,FALSE))^G33+E33*(1-B33)*(1+VLOOKUP(D33,Tabell57[],3,FALSE))^G33","v":{"$error":"#N/A"}},null,"Riket",1.3970583507824954,1.2943390119961817E-2]
[null,null,null,null,null,null,"0",{"$f":"E34*B34*(1+VLOOKUP(C34,Tabell43[],3,FALSE))^G34+E34*(1-B34)*(1+VLOOKUP(D34,Tabell57[],3,FALSE))^G34","v":{"$error":"#N/A"}}]
[null,null,null,null,null,null,"0",{"$f":"E35*B35*(1+VLOOKUP(C35,Tabell43[],3,FALSE))^G35+E35*(1-B35)*(1+VLOOKUP(D35,Tabell57[],3,FALSE))^G35","v":{"$error":"#N/A"}},null,"PERSONBIL - Grupp","Prognos 2019-2045 [kvot] ","Årlig utveckling % "]
[null,null,null,null,null,null,"0",{"$f":"E36*B36*(1+VLOOKUP(C36,Tabell43[],3,FALSE))^G36+E36*(1-B36)*(1+VLOOKUP(D36,Tabell57[],3,FALSE))^G36","v":{"$error":"#N/A"}},null,"Stockholm",1.3173271899213281,{"$f":"(K36^(1/($K$3-$K$2))-1)","v":1.0656566688718838E-2}]
[null,null,null,null,null,null,"0",{"$f":"E37*B37*(1+VLOOKUP(C37,Tabell43[],3,FALSE))^G37+E37*(1-B37)*(1+VLOOKUP(D37,Tabell57[],3,FALSE))^G37","v":{"$error":"#N/A"}},null,"Uppsala",1.2707798549752352,9.259171466167615E-3]
[null,null,null,null,null,null,"0",{"$f":"E38*B38*(1+VLOOKUP(C38,Tabell43[],3,FALSE))^G38+E38*(1-B38)*(1+VLOOKUP(D38,Tabell57[],3,FALSE))^G38","v":{"$error":"#N/A"}},null,"Södermanland",1.2291110405749028,7.9658358134941931E-3]
[null,null,null,null,null,null,"0",{"$f":"E39*B39*(1+VLOOKUP(C39,Tabell43[],3,FALSE))^G39+E39*(1-B39)*(1+VLOOKUP(D39,Tabell57[],3,FALSE))^G39","v":{"$error":"#N/A"}},null,"Östergötland",1.2682827903241218,9.1828231548518602E-3]
[null,null,null,null,null,null,"0",{"$f":"E40*B40*(1+VLOOKUP(C40,Tabell43[],3,FALSE))^G40+E40*(1-B40)*(1+VLOOKUP(D40,Tabell57[],3,FALSE))^G40","v":{"$error":"#N/A"}},null,"Jönköping",1.2491246948485932,8.5922052874927157E-3]
[null,null,null,null,null,null,"0",{"$f":"E41*B41*(1+VLOOKUP(C41,Tabell43[],3,FALSE))^G41+E41*(1-B41)*(1+VLOOKUP(D41,Tabell57[],3,FALSE))^G41","v":{"$error":"#N/A"}},null,"Kronoberg",1.2046700742750782,7.1874656569632656E-3]
[null,null,null,null,null,null,"0",{"$f":"E42*B42*(1+VLOOKUP(C42,Tabell43[],3,FALSE))^G42+E42*(1-B42)*(1+VLOOKUP(D42,Tabell57[],3,FALSE))^G42","v":{"$error":"#N/A"}},null,"Kalmar",1.1501723252065517,5.3957270579192418E-3]
[null,null,null,null,null,null,"0",{"$f":"E43*B43*(1+VLOOKUP(C43,Tabell43[],3,FALSE))^G43+E43*(1-B43)*(1+VLOOKUP(D43,Tabell57[],3,FALSE))^G43","v":{"$error":"#N/A"}},null,"Gotland",1.2140387393610612,7.4876084785033825E-3]
[null,null,null,null,null,null,"0",{"$f":"E44*B44*(1+VLOOKUP(C44,Tabell43[],3,FALSE))^G44+E44*(1-B44)*(1+VLOOKUP(D44,Tabell57[],3,FALSE))^G44","v":{"$error":"#N/A"}},null,"Blekinge",1.1673673919663226,5.9697143459229718E-3]
[null,null,null,null,null,null,"0",{"$f":"E45*B45*(1+VLOOKUP(C45,Tabell43[],3,FALSE))^G45+E45*(1-B45)*(1+VLOOKUP(D45,Tabell57[],3,FALSE))^G45","v":{"$error":"#N/A"}},null,"Skåne",1.2834396209390215,9.6440406750741836E-3]
[null,null,null,null,null,null,"0",{"$f":"E46*B46*(1+VLOOKUP(C46,Tabell43[],3,FALSE))^G46+E46*(1-B46)*(1+VLOOKUP(D46,Tabell57[],3,FALSE))^G46","v":{"$error":"#N/A"}},null,"Halland",1.2746781191316658,9.3780738622921689E-3]
[null,null,null,null,null,null,"0",{"$f":"E47*B47*(1+VLOOKUP(C47,Tabell43[],3,FALSE))^G47+E47*(1-B47)*(1+VLOOKUP(D47,Tabell57[],3,FALSE))^G47","v":{"$error":"#N/A"}},null,"Västra Götaland",1.2252283141529647,7.8431826998697218E-3]
[null,null,null,null,null,null,"0",{"$f":"E48*B48*(1+VLOOKUP(C48,Tabell43[],3,FALSE))^G48+E48*(1-B48)*(1+VLOOKUP(D48,Tabell57[],3,FALSE))^G48","v":{"$error":"#N/A"}},null,"Värmland",1.1065441485151233,3.9015057105660222E-3]
[null,null,null,null,null,null,"0",{"$f":"E49*B49*(1+VLOOKUP(C49,Tabell43[],3,FALSE))^G49+E49*(1-B49)*(1+VLOOKUP(D49,Tabell57[],3,FALSE))^G49","v":{"$error":"#N/A"}},null,"Örebro",1.1924124678760726,6.7913627630185047E-3]
[null,null,null,null,null,null,"0",{"$f":"E50*B50*(1+VLOOKUP(C50,Tabell43[],3,FALSE))^G50+E50*(1-B50)*(1+VLOOKUP(D50,Tabell57[],3,FALSE))^G50","v":{"$error":"#N/A"}},null,"Västmanland",1.244079001148503,8.4352043791677822E-3]
[null,null,null,null,null,null,"0",{"$f":"E51*B51*(1+VLOOKUP(C51,Tabell43[],3,FALSE))^G51+E51*(1-B51)*(1+VLOOKUP(D51,Tabell57[],3,FALSE))^G51","v":{"$error":"#N/A"}},null,"Dalarna",1.1554369277437402,5.5723359074593137E-3]
[null,null,null,null,null,null,"0",{"$f":"E52*B52*(1+VLOOKUP(C52,Tabell43[],3,FALSE))^G52+E52*(1-B52)*(1+VLOOKUP(D52,Tabell57[],3,FALSE))^G52","v":{"$error":"#N/A"}},null,"Gävleborg",1.1328570995839657,4.8093297414142366E-3]
[null,null,null,null,null,null,"0",{"$f":"E53*B53*(1+VLOOKUP(C53,Tabell43[],3,FALSE))^G53+E53*(1-B53)*(1+VLOOKUP(D53,Tabell57[],3,FALSE))^G53","v":{"$error":"#N/A"}},null,"Västernorrland",1.0895607165832046,3.3044709468945666E-3]
[null,null,null,null,null,null,"0",{"$f":"E54*B54*(1+VLOOKUP(C54,Tabell43[],3,FALSE))^G54+E54*(1-B54)*(1+VLOOKUP(D54,Tabell57[],3,FALSE))^G54","v":{"$error":"#N/A"}},null,"Jämtland",1.1266129749731284,4.5957499197530893E-3]
[null,null,null,null,null,null,"0",{"$f":"E55*B55*(1+VLOOKUP(C55,Tabell43[],3,FALSE))^G55+E55*(1-B55)*(1+VLOOKUP(D55,Tabell57[],3,FALSE))^G55","v":{"$error":"#N/A"}},null,"Västerbotten ",1.212735410117679,7.4459875071506421E-3]
[null,null,null,null,null,null,"0",{"$f":"E56*B56*(1+VLOOKUP(C56,Tabell43[],3,FALSE))^G56+E56*(1-B56)*(1+VLOOKUP(D56,Tabell57[],3,FALSE))^G56","v":{"$error":"#N/A"}},null,"Norrbotten ",1.0860645697283131,3.1804575806473334E-3]
[null,null,null,null,null,null,"0",{"$f":"E57*B57*(1+VLOOKUP(C57,Tabell43[],3,FALSE))^G57+E57*(1-B57)*(1+VLOOKUP(D57,Tabell57[],3,FALSE))^G57","v":{"$error":"#N/A"}},null,"Riket",1.2314516317824336,8.0395938960731161E-3]
[null,null,null,null,null,null,"0",{"$f":"E58*B58*(1+VLOOKUP(C58,Tabell43[],3,FALSE))^G58+E58*(1-B58)*(1+VLOOKUP(D58,Tabell57[],3,FALSE))^G58","v":{"$error":"#N/A"}}]
[null,null,null,null,null,null,"0",{"$f":"E59*B59*(1+VLOOKUP(C59,Tabell43[],3,FALSE))^G59+E59*(1-B59)*(1+VLOOKUP(D59,Tabell57[],3,FALSE))^G59","v":{"$error":"#N/A"}}]
[null,null,null,null,null,null,"0",{"$f":"E60*B60*(1+VLOOKUP(C60,Tabell43[],3,FALSE))^G60+E60*(1-B60)*(1+VLOOKUP(D60,Tabell57[],3,FALSE))^G60","v":{"$error":"#N/A"}}]
[null,null,null,null,null,null,"0",{"$f":"E61*B61*(1+VLOOKUP(C61,Tabell43[],3,FALSE))^G61+E61*(1-B61)*(1+VLOOKUP(D61,Tabell57[],3,FALSE))^G61","v":{"$error":"#N/A"}}]
[null,null,null,null,null,null,"0",{"$f":"E62*B62*(1+VLOOKUP(C62,Tabell43[],3,FALSE))^G62+E62*(1-B62)*(1+VLOOKUP(D62,Tabell57[],3,FALSE))^G62","v":{"$error":"#N/A"}}]
[null,null,null,null,null,null,"0",{"$f":"E63*B63*(1+VLOOKUP(C63,Tabell43[],3,FALSE))^G63+E63*(1-B63)*(1+VLOOKUP(D63,Tabell57[],3,FALSE))^G63","v":{"$error":"#N/A"}}]
[null,null,null,null,null,null,"0",{"$f":"E64*B64*(1+VLOOKUP(C64,Tabell43[],3,FALSE))^G64+E64*(1-B64)*(1+VLOOKUP(D64,Tabell57[],3,FALSE))^G64","v":{"$error":"#N/A"}}]
[null,null,null,null,null,null,"0",{"$f":"E65*B65*(1+VLOOKUP(C65,Tabell43[],3,FALSE))^G65+E65*(1-B65)*(1+VLOOKUP(D65,Tabell57[],3,FALSE))^G65","v":{"$error":"#N/A"}}]
[null,null,null,null,null,null,"0",{"$f":"E66*B66*(1+VLOOKUP(C66,Tabell43[],3,FALSE))^G66+E66*(1-B66)*(1+VLOOKUP(D66,Tabell57[],3,FALSE))^G66","v":{"$error":"#N/A"}}]
[null,null,null,null,null,null,"0",{"$f":"E67*B67*(1+VLOOKUP(C67,Tabell43[],3,FALSE))^G67+E67*(1-B67)*(1+VLOOKUP(D67,Tabell57[],3,FALSE))^G67","v":{"$error":"#N/A"}}]
[null,null,null,null,null,null,"0",{"$f":"E68*B68*(1+VLOOKUP(C68,Tabell43[],3,FALSE))^G68+E68*(1-B68)*(1+VLOOKUP(D68,Tabell57[],3,FALSE))^G68","v":{"$error":"#N/A"}}]
[null,null,null,null,null,null,"0",{"$f":"E69*B69*(1+VLOOKUP(C69,Tabell43[],3,FALSE))^G69+E69*(1-B69)*(1+VLOOKUP(D69,Tabell57[],3,FALSE))^G69","v":{"$error":"#N/A"}}]
[null,null,null,null,null,null,"0",{"$f":"E70*B70*(1+VLOOKUP(C70,Tabell43[],3,FALSE))^G70+E70*(1-B70)*(1+VLOOKUP(D70,Tabell57[],3,FALSE))^G70","v":{"$error":"#N/A"}}]
[null,null,null,null,null,null,"0",{"$f":"E71*B71*(1+VLOOKUP(C71,Tabell43[],3,FALSE))^G71+E71*(1-B71)*(1+VLOOKUP(D71,Tabell57[],3,FALSE))^G71","v":{"$error":"#N/A"}}]
[null,null,null,null,null,null,"0",{"$f":"E72*B72*(1+VLOOKUP(C72,Tabell43[],3,FALSE))^G72+E72*(1-B72)*(1+VLOOKUP(D72,Tabell57[],3,FALSE))^G72","v":{"$error":"#N/A"}}]
[null,null,null,null,null,null,"0",{"$f":"E73*B73*(1+VLOOKUP(C73,Tabell43[],3,FALSE))^G73+E73*(1-B73)*(1+VLOOKUP(D73,Tabell57[],3,FALSE))^G73","v":{"$error":"#N/A"}}]
[null,null,null,null,null,null,"0",{"$f":"E74*B74*(1+VLOOKUP(C74,Tabell43[],3,FALSE))^G74+E74*(1-B74)*(1+VLOOKUP(D74,Tabell57[],3,FALSE))^G74","v":{"$error":"#N/A"}}]
[null,null,null,null,null,null,"0",{"$f":"E75*B75*(1+VLOOKUP(C75,Tabell43[],3,FALSE))^G75+E75*(1-B75)*(1+VLOOKUP(D75,Tabell57[],3,FALSE))^G75","v":{"$error":"#N/A"}}]

{"sheet":"Hastighet","index":3,"n_rows":107,"n_cols":27,"rows_kept":107,"cut":false,"hidden":false,"merged":[[21,4,21,6],[63,9,63,11],[50,3,50,5],[50,9,50,11],[61,3,61,5],[30,3,30,5],[30,9,30,11],[40,3,40,5],[40,9,40,11]]}
[null,null,null,"Hastigheter före",null,null,null,null,null,null,"Konstant i AC ATK-formel",null,null,null,null,null,null,null,null,null,"Hastighet efter "]
[null,null,null,"-med ATK beror på vägkategori",null,null,null,null,null,null,null,null,null,null,null,null,null,null,null,null,null,null,"Medelhastighet km/tim",null,null,"Stopp/km"]
["Vägtyp","Skyltad hastighet","ATK före","alt nr","Vpb","Vlb","Vlbs","lb rel","lbs rel",null,null,"A",null,null,null,null,null,null,"Vägtyp","Skyltad hastighet före","Skyltad hastighet efter",null,"Vpb","Vlbu","Vlbs"]
["GIF",50,"Nej",1,{"$f":"E28","v":49.26315789473685},{"$f":"F28","v":49.26315789473685},{"$f":"G28","v":49.26315789473685},{"$f":"Tabell1[[#This Row],[Vlb]]/Tabell1[[#This Row],[Vpb]]","v":1},{"$f":"Tabell1[[#This Row],[Vlbs]]/Tabell1[[#This Row],[Vpb]]","v":1},null,null,"pb","lb","lbs",null,null,null,null,"GIF",50,40,1,{"$f":"E4+S28","v":47.433157894736851},{"$f":"F4+T28","v":47.433157894736851},{"$f":"G4+U28","v":47.433157894736851},0.1]
[null,50,"Ja",2,{"$f":"E4*L6+(1-L6)*($B$4-10)","v":46.051926736842105},{"$f":"F4*M6+(1-M6)*($B$4-10)","v":46.051926736842105},{"$f":"G4*N6+(1-N6)*($B$4-10)","v":46.051926736842105},{"$f":"Tabell1[[#This Row],[Vlb]]/Tabell1[[#This Row],[Vpb]]","v":1},{"$f":"Tabell1[[#This Row],[Vlbs]]/Tabell1[[#This Row],[Vpb]]","v":1},null,40,{"$f":"+L6","v":0.65333300000000005},{"$f":"+M6","v":0.65333300000000005},{"$f":"+N6","v":0.65333300000000005},null,null,null,null,null,50,"40ATK",2,{"$f":"D75","v":41.389657346842114},{"$f":"E75","v":41.389657346842114},{"$f":"F75","v":41.389657346842114},0.1]
[null,70,"Nej",3,{"$f":"E25","v":68.94202898550725},{"$f":"F25","v":68.467153284671539},{"$f":"G25","v":67.985294117647058},{"$f":"Tabell1[[#This Row],[Vlb]]/Tabell1[[#This Row],[Vpb]]","v":0.99311195640999284},{"$f":"Tabell1[[#This Row],[Vlbs]]/Tabell1[[#This Row],[Vpb]]","v":0.98612261806130896},null,50,0.65333300000000005,0.65333300000000005,0.65333300000000005,null,null,null,null,null,"50ATK","40ATK",3,{"$f":"D72","v":39.606170698890004},{"$f":"E72","v":39.606170698890004},{"$f":"F72","v":39.606170698890004},0.05]
[null,70,"Ja",4,{"$f":"E6*L8+(1-L8)*($B$6-10)","v":65.973275362318844},{"$f":"F6*M8+(1-M8)*($B$6-10)","v":66.003211678832116},65.661573529411754,{"$f":"Tabell1[[#This Row],[Vlb]]/Tabell1[[#This Row],[Vpb]]","v":1.0004537642909022},{"$f":"Tabell1[[#This Row],[Vlbs]]/Tabell1[[#This Row],[Vpb]]","v":0.99527533184921846},null,60,0.626,0.63400000000000001,0.63400000000000001,null,null,null,null,null,70,60,4,{"$f":"E6+S29","v":66.377028985507252},{"$f":"F6+T29","v":66.602153284671544},{"$f":"G6+U29","v":66.570294117647052},0.05]
["2kf",70,"Nej",5,{"$f":"M29","v":74.249158249158242},{"$f":"N29","v":73.249146757679185},{"$f":"O29","v":71.986111111111114},{"$f":"Tabell1[[#This Row],[Vlb]]/Tabell1[[#This Row],[Vpb]]","v":0.98653167907812078},{"$f":"Tabell1[[#This Row],[Vlbs]]/Tabell1[[#This Row],[Vpb]]","v":0.96952090513332134},null,70,0.66800000000000004,0.70899999999999996,0.70899999999999996,null,null,null,null,null,70,"60ATK",5,{"$f":"D82","v":60.252020144927542},{"$f":"E82","v":60.525765182481763},60.505566470588235,0.05]
[null,70,"Ja",6,{"$f":"E8*L8+(1-L8)*($B$8-10)","v":69.518437710437709},{"$f":"F8*M8+(1-M8)*($B$8-10)","v":69.39364505119454},{"$f":"G8*N8+(1-N8)*($B$8-10)","v":68.498152777777776},{"$f":"Tabell1[[#This Row],[Vlb]]/Tabell1[[#This Row],[Vpb]]","v":0.99820489839310023},{"$f":"Tabell1[[#This Row],[Vlbs]]/Tabell1[[#This Row],[Vpb]]","v":0.98532353478785462},null,80,0.67700000000000005,0.72199999999999998,0.76100000000000001,null,null,null,null,null,"70ATK","60ATK",6,{"$f":"AVERAGE(D78:D79)","v":58.870857095526148},{"$f":"AVERAGE(E78:E79)","v":59.473136727589278},{"$f":"AVERAGE(F78:F79)","v":59.538252299989637},0.05]
[null,80,"Nej",null,{"$f":"M27","v":83.249249249249246},{"$f":"N27","v":81.249230769230778},{"$f":"O27","v":78.987341772151893},{"$f":"Tabell1[[#This Row],[Vlb]]/Tabell1[[#This Row],[Vpb]]","v":0.97597553734051834},{"$f":"Tabell1[[#This Row],[Vlbs]]/Tabell1[[#This Row],[Vpb]]","v":0.94880545451722753},null,90,0.641957,0.873,0.89600000000000002,null,null,null,null,"2kf",70,60,7,{"$f":"E8+S29","v":71.684158249158244},{"$f":"F8+T29","v":71.38414675767919},{"$f":"G8+U29","v":70.571111111111108},0.02]
[null,80,"Ja",null,{"$f":"E10*L9+(1-L9)*($B$10-10)","v":78.969741741741743},{"$f":"F10*M9+(1-M9)*($B$10-10)","v":78.121944615384621},{"$f":"G10*N9+(1-N9)*($B$10-10)","v":76.839367088607588},{"$f":"Tabell1[[#This Row],[Vlb]]/Tabell1[[#This Row],[Vpb]]","v":0.98926427885341561},{"$f":"Tabell1[[#This Row],[Vlbs]]/Tabell1[[#This Row],[Vpb]]","v":0.97302289957967425},null,100,0.75,0.89900000000000002,0.90500000000000003,null,null,null,null,null,70,"60ATK",8,{"$f":"D104","v":63.574283063973056},{"$f":"E104","v":63.557549044368614},{"$f":"F104","v":63.042084444444441},0.02]
[null,90,"Nej",7,{"$f":"M25","v":89.249299719887944},{"$f":"N25","v":84.749262536873161},{"$f":"O25","v":79.987500000000011},{"$f":"Tabell1[[#This Row],[Vlb]]/Tabell1[[#This Row],[Vpb]]","v":0.94957901969944514},{"$f":"Tabell1[[#This Row],[Vlbs]]/Tabell1[[#This Row],[Vpb]]","v":0.89622551942753148},null,110,{"$f":"+L11","v":0.75},{"$f":"+M11","v":0.89900000000000002},{"$f":"+N11","v":0.90500000000000003},null,null,null,null,null,"70ATK","60ATK",9,{"$f":"D107","v":58.933146268259378},{"$f":"E107","v":59.757087272866912},60.042387272866904,0.02]
[null,90,"Ja",8,{"$f":"E12*L10+(1-L10)*($B$12-10)","v":85.937652700280097},{"$f":"F12*M10+(1-M10)*($B$12-10)","v":84.146106194690262},{"$f":"G12*N10+(1-N10)*($B$12-10)","v":79.988800000000012},{"$f":"Tabell1[[#This Row],[Vlb]]/Tabell1[[#This Row],[Vpb]]","v":0.97915295043212192},{"$f":"Tabell1[[#This Row],[Vlbs]]/Tabell1[[#This Row],[Vpb]]","v":0.93077710976086858},null,null,null,null,null,null,null,null,null,null,90,80,10,{"$f":"E12+S30","v":85.949299719887946},{"$f":"F12+T30","v":82.849262536873155},{"$f":"G12+U30","v":78.987500000000011},0.02]
[null,100,"Nej",9,{"$f":"M23","v":95.497382198952877},{"$f":"N23","v":89.497206703910607},{"$f":"O23","v":80.987654320987644},{"$f":"Tabell1[[#This Row],[Vlb]]/Tabell1[[#This Row],[Vpb]]","v":0.93716921493678329},{"$f":"Tabell1[[#This Row],[Vlbs]]/Tabell1[[#This Row],[Vpb]]","v":0.84806151180420175},null,"Vatk = A*V+(1-A)*(HG-10) om V>=HG-10, för lb 72 om HG>=90",null,null,null,null,null,null,null,null,90,"80ATK",11,{"$f":"D91","v":80.797675910364134},{"$f":"E91","v":79.277167551622426},{"$f":"F91","v":76.839487500000004},0.02]
[null,100,"Ja",10,{"$f":"E14*L11+(1-L11)*($B$14-10)","v":94.123036649214654},{"$f":"F14*M11+(1-M11)*($B$14-10)","v":89.54798882681564},{"$f":"G14*N11+(1-N11)*($B$14-10)","v":81.843827160493817},{"$f":"Tabell1[[#This Row],[Vlb]]/Tabell1[[#This Row],[Vpb]]","v":0.95139290034330626},{"$f":"Tabell1[[#This Row],[Vlbs]]/Tabell1[[#This Row],[Vpb]]","v":0.86954086984588064},null,"Vatk = V                                     om V<HG-10, för lb 72 om HG>=90",null,null,null,null,null,null,null,null,"90ATK","80ATK",12,{"$f":"AVERAGE(D87:D88)","v":79.257539340026398},{"$f":"AVERAGE(E87:E88)","v":79.808254188693766},{"$f":"AVERAGE(F87:F88)","v":77.827344005997503},0.02]
["MLV",90,"Nej",11,{"$f":"R46","v":87.627852697095435},{"$f":"S46","v":82.594620623237248},78.413767622469834,{"$f":"Tabell1[[#This Row],[Vlb]]/Tabell1[[#This Row],[Vpb]]","v":0.94256127567958736},{"$f":"Tabell1[[#This Row],[Vlbs]]/Tabell1[[#This Row],[Vpb]]","v":0.894849813261132},null,null,null,null,null,null,null,null,null,null,100,80,13,{"$f":"E14+S31","v":90.247382198952877},{"$f":"F14+T31","v":85.747206703910607},{"$f":"G14+U31","v":79.737654320987644},0.02]
[null,90,"Ja",12,{"$f":"E16*L10+(1-L10)*($B$16-10)","v":84.896753433869293},{"$f":"F16*M10+(1-M10)*($B$16-10)","v":82.26510380408611},{"$f":"G16*N10+(1-N10)*($B$16-10)","v":78.57873578973296},{"$f":"Tabell1[[#This Row],[Vlb]]/Tabell1[[#This Row],[Vpb]]","v":0.96900176363242063},{"$f":"Tabell1[[#This Row],[Vlbs]]/Tabell1[[#This Row],[Vpb]]","v":0.92557998523397267},null,null,null,null,null,null,null,null,null,null,"100ATK","80ATK",14,{"$f":"W16*L9+(1-L9)*($K$9-10)","v":83.707477748691105},{"$f":"X16*M9+(1-M9)*($K$9-10)","v":81.36948324022346},{"$f":"Y16*N9+(1-N9)*($K$9-10)","v":77.410354938271595},0.02]
[null,100,"Nej",null,{"$f":"R56","v":95.116465973713062},{"$f":"S56","v":87.805251782733038},{"$f":"T56","v":81.897599555987242},{"$f":"Tabell1[[#This Row],[Vlb]]/Tabell1[[#This Row],[Vpb]]","v":0.92313408497535443},{"$f":"Tabell1[[#This Row],[Vlbs]]/Tabell1[[#This Row],[Vpb]]","v":0.86102441588421652},null,null,null,null,null,null,null,null,null,"MLV",90,100,15,{"$f":"E16+S34","v":90.02785269709544},{"$f":"F16+T34","v":84.494620623237253},{"$f":"G16+U34","v":78.413767622469834},0.02]
[null,110,"Nej",13,{"$f":"D64","v":104.5},{"$f":"E64","v":92},{"$f":"F64","v":83.5},{"$f":"Tabell1[[#This Row],[Vlb]]/Tabell1[[#This Row],[Vpb]]","v":0.88038277511961727},{"$f":"Tabell1[[#This Row],[Vlbs]]/Tabell1[[#This Row],[Vpb]]","v":0.79904306220095689},null,null,null,null,null,null,null,null,null,null,"90ATK","100ATK",16,{"$f":"W18*L11+(1-L11)*($K$11-10)","v":90.020889522821577},{"$f":"X18*M11+(1-M11)*($K$11-10)","v":85.050663940290292},{"$f":"Y18*N11+(1-N11)*($K$11-10)","v":79.514459698335202},0.02]
["MV",110,"Nej",14,{"$f":"J67","v":109},{"$f":"K67","v":93},84.5,{"$f":"Tabell1[[#This Row],[Vlb]]/Tabell1[[#This Row],[Vpb]]","v":0.85321100917431192},{"$f":"Tabell1[[#This Row],[Vlbs]]/Tabell1[[#This Row],[Vpb]]","v":0.77522935779816515},"2kf land",null,null,"2 kf land schablon",null,null,null,null,null,null,110,100,17,{"$f":"E19+S32","v":102.2},92,83,0.02]
[null,null,null,null,null,null,null,null,"BP1 150 Normal","Pb","Lb","Lbs","Pb","Lb","Lbs",null,null,null,"MV",110,120,18,112.7,96.2,84.5,0.02]
[null,"2kf GIF",null,null,"2kf GIF schablon",null,null,null,"2 N 100 SK1",96,90,82,{"$f":"+M23/$M$23","v":1},{"$f":"+N23/$M$23","v":0.93716921493678329},{"$f":"+O23/$M$23","v":0.84806151180420175}]
[null,"Pb","Lb","Lbs","Pb","Lb","Lbs",null,"2N 100 SK2",95,89,80,{"$f":"1/(0.5/J22+0.5/J23)","v":95.497382198952877},{"$f":"1/(0.5/K22+0.5/K23)","v":89.497206703910607},{"$f":"1/(0.5/L22+0.5/L23)","v":80.987654320987644}]
[null,71,70,69,{"$f":"+E25/$E$25","v":1},{"$f":"+F25/$E$25","v":0.99311195640999284},{"$f":"+G25/$E$25","v":0.98612261806130896},null,"2N 90 SK1",89.5,85,81,{"$f":"+M25/$M$25","v":1},{"$f":"+N25/$M$25","v":0.94957901969944514},{"$f":"+O25/$M$25","v":0.89622551942753148}]
[null,67,67,67,{"$f":"1/(0.5/B24+0.5/B25)","v":68.94202898550725},{"$f":"1/(0.5/C24+0.5/C25)","v":68.467153284671539},{"$f":"1/(0.5/D24+0.5/D25)","v":67.985294117647058},null,"2N 90 SK2",89,84.5,79,{"$f":"1/(0.5/J24+0.5/J25)","v":89.249299719887944},{"$f":"1/(0.5/K24+0.5/K25)","v":84.749262536873161},{"$f":"1/(0.5/L24+0.5/L25)","v":79.987500000000011}]
[null,52,52,52,null,null,null,null,"2N 80 SK1",83.5,81.5,80,{"$f":"+M27/$M$27","v":1},{"$f":"+N27/$M$27","v":0.97597553734051834},{"$f":"+O27/$M$27","v":0.94880545451722753},null,null,null,null,null,null,null,null,null,null,null,"Referens: "]
[null,48,48,48,{"$f":"+E28/E28","v":1},{"$f":"+F28/F28","v":1},{"$f":"+G28/G28","v":1},null,"2N 80 SK2",83,81,78,{"$f":"1/(0.5/J26+0.5/J27)","v":83.249249249249246},{"$f":"1/(0.5/K26+0.5/K27)","v":81.249230769230778},{"$f":"1/(0.5/L26+0.5/L27)","v":78.987341772151893},null,null,null,"pb","lb","lbs",null,null,null,null,null,"VTI rapport 938 - Hastighetsflödessamband för svenska vägtyper"]
[null,48,48,48,{"$f":"1/(1/3/B27+1/3/B28+1/3/B26)","v":49.26315789473685},{"$f":"1/(1/3/C27+1/3/C28+1/3/C26)","v":49.26315789473685},{"$f":"1/(1/3/D27+1/3/D28+1/3/D26)","v":49.26315789473685},null,"2N 70 SK1",{"$f":"D34","v":74.5},{"$f":"E34","v":73.5},{"$f":"F34","v":73},{"$f":"+M29/$M$29","v":1},{"$f":"+N29/$M$29","v":0.98653167907812078},{"$f":"+O29/$M$29","v":0.96952090513332134},null,1,"50-40",-1.83,-1.83,-1.83,null,null,null,null,null,"Effektsamband för transportsystem"]
[null,null,null,null,null,null,null,null,"2N 70 SK2",{"$f":"J34","v":74},{"$f":"K34","v":73},{"$f":"L34","v":71},{"$f":"1/(0.5/J28+0.5/J29)","v":74.249158249158242},{"$f":"1/(0.5/K28+0.5/K29)","v":73.249146757679185},{"$f":"1/(0.5/L28+0.5/L29)","v":71.986111111111114},null,2,"70-60",{"$f":"(0.5*S28)+(0.5*S30)","v":-2.5649999999999999},{"$f":"(0.5*T28)+(0.5*T30)","v":-1.865},{"$f":"(0.5*U28)+(0.5*U30)","v":-1.415}]
[null,"70km/h, tvåfältsväg, 8-10m, siktklass 1",null,null,null,null,null,"70km/h, tvåfältsväg, 8-10m, siktklass 2",null,null,null,null,null,null,null,null,3,"90-80",-3.3,-1.9,-1]
[null,null,"Flöde","Reshastighet km/h",null,null,null,null,"Flöde","Reshastighet km/h",null,null,null,null,null,null,4,"100-80",{"$f":"(0.5*-5.4)+(0.5*-5.1)","v":-5.25},{"$f":"(0.5*-3.4)+(0.5*-4.1)","v":-3.75},{"$f":"(0.5*-2.6)+(0.5*0.1)","v":-1.25}]
[null,"Normal","f/h","Pb","Lb","Lbs",null,"Normal","f/h","Pb","Lb","Lbs",null,null,null,null,5,"110-100",-2.2999999999999998,0,-0.5]
[null,"Brytpunkt 0",0,74.5,73.5,73,null,"Brytpunkt 0",0,74,73,71,null,null,null,null,6,"110-120",3.7,3.2,0]
[null,"Brytpunkt 1",150,74.5,73.5,73,null,"Brytpunkt 1",150,74,73,71,null,null,null,null,7,"90-100",2.4,1.9,0]
[null,"Brytpunkt 2",600,70.400000000000006,70,69.7,null,"Brytpunkt 2",550,69.099999999999994,68.7,67.400000000000006]
[null,"Brytpunkt 3",1200,66.5,66.3,66.2,null,"Brytpunkt 3",1100,64.2,64.099999999999994,63.4]
[null,"Brytpunkt 4",1800,63,63,63,null,"Brytpunkt 4",1700,59.5,59.5,59.5]
[null,"Brytpunkt 5",2160,10,10,10,null,"Brytpunkt 5",2040,10,10,10]
[]
[null,"90km/h, MLV, 2+1 kf, 13-14m, siktklass 1, andel tvåfält 40 %",null,null,null,null,null,"90km/h, MLV, 2+1 kf, 13-14m, siktklass 2, andel tvåfält 40 %"]
[null,null,"Flöde","Reshastighet km/h",null,null,null,null,"Flöde","Reshastighet km/h"]
[null,null,"f/h","Pb","Lb","Lbs",null,null,"f/h","Pb","Lb","Lbs"]
[null,"Brytpunkt 0",0,88.5,83,79.5,null,"Brytpunkt 0",0,88,82.5,77.5,null,null,"MLV 90",null,null,"MLV 90","schablon"]
[null,"Brytpunkt 1",240,88.5,83,79.5,null,"Brytpunkt 1",60,88,82.5,77.5,null,"Villkor","Pb","Lbs","Lbs","Pb","Lbs","Lbs"]
[null,"Brytpunkt 2",750,85.7,81.5,78.8,null,"Brytpunkt 2",500,82,81,76.8,null,"40%  150 f/h",{"$f":"+D43","v":88.5},{"$f":"+E43","v":83},{"$f":"+F43","v":79.5},{"$f":"+R46/R46","v":1},{"$f":"+S46/R46","v":0.94256127567958736},{"$f":"+T46/R46","v":0.894849813261132}]
[null,"Brytpunkt 3",1500,81.5,79.3,78.099999999999994,null,"Brytpunkt 3",1500,81,78.8,76.099999999999994,null,"20% 150 f/h",{"$f":"+J44+(J45-J44)*(150-60)/(500-60)","v":86.772727272727266},{"$f":"+K44+(K45-K44)*(150-60)/(500-60)","v":82.193181818181813},{"$f":"+L44+(L45-L44)*(150-60)/(500-60)","v":77.356818181818184},{"$f":"1/(0.5/O45+0.5/O46)","v":87.627852697095435},{"$f":"1/(0.5/P45+0.5/P46)","v":82.594620623237248},{"$f":"1/(0.5/Q45+0.5/Q46)","v":78.413767622469834}]
[null,"Brytpunkt 4",1550,78.099999999999994,78.099999999999994,78.099999999999994,null,"Brytpunkt 4",1550,76.099999999999994,76.099999999999994,76.099999999999994]
[null,"Brytpunkt 5",1860,10,10,10,null,"Brytpunkt 5",1860,10,10,10]
[]
[null,"100km/h, MLV, 2+1 kf, 13-14m, siktklass 1, andel tvåfält 40 %",null,null,null,null,null,"100km/h, MLV, 2+1 kf, 13-14m, siktklass 1, andel tvåfält 20 %"]
[null,null,"Flöde","Reshastighet km/h",null,null,null,null,"Flöde","Reshastighet km/h"]
[null,null,"f/h","Pb","Lb","Lbs",null,null,"f/h","Pb","Lb","Lbs"]
[null,"Brytpunkt 0",0,96,88,82,null,"Brytpunkt 0",0,96,88,82,null,null,"MLV 100",null,null,"MLV 100","schablon"]
[null,"Brytpunkt 1",240,96,88,82,null,"Brytpunkt 1",60,96,88,82,null,"Villkor","Pb","Lbs","Lbs","Pb","Lbs","Lbs"]
[null,"Brytpunkt 2",750,92.639643774634294,86.1,81,null,"Brytpunkt 2",500,87.439784400140539,86.1,81,null,"40%  150 f/h",{"$f":"+D53","v":96},{"$f":"+E53","v":88},{"$f":"+F53","v":82},{"$f":"+R56/R56","v":1},{"$f":"+S56/R56","v":0.92313408497535443},{"$f":"+T56/R56","v":0.86102441588421652}]
[null,"Brytpunkt 3",1500,87.549708980703485,83.5,80,null,"Brytpunkt 3",1500,81.411976542724631,80.599999999999994,79,null,"20% 150 f/h",{"$f":"+J54+(J55-J54)*(150-60)/(500-60)","v":94.249046809119662},{"$f":"+K54+(K55-K54)*(150-60)/(500-60)","v":87.611363636363635},{"$f":"+L54+(L55-L54)*(150-60)/(500-60)","v":81.795454545454547},{"$f":"1/(0.5/O55+0.5/O56)","v":95.116465973713062},{"$f":"1/(0.5/P55+0.5/P56)","v":87.805251782733038},{"$f":"1/(0.5/Q55+0.5/Q56)","v":81.897599555987242}]
[null,"Brytpunkt 4",1550,79,79,79,null,"Brytpunkt 4",1550,79,79,79]
[null,"Brytpunkt 5",1860,10,10,10,null,"Brytpunkt 5",1860,10,10,10]
[]
[]
[null,"110km/h, MML, 2+1 kf, 13-14m, siktklass 1, andel tvåfält 40%"]
[null,null,"Flöde","Reshastighet km/h"]
[null,null,"f/h","Pb","Lb","Lbs",null,null,"MV110 (3kf S1 Flöde 0-1872f/h)"]
[null,"Brytpunkt 0",0,104.5,92,83.5,null,null,"Flöde","Reshastighet km/h"]
[null,"Brytpunkt 1",240,104.5,92,83.5,null,null,"f/h","Pb","Lb","Lbs"]
[null,"Brytpunkt 2",750,100.4,90,82.5,null,null,null,{"$f":"+J67/$J$67","v":1},{"$f":"+K67/$J$67","v":0.85321100917431192},{"$f":"+L67/$J$67","v":0.77522935779816515}]
[null,"Brytpunkt 3",1500,93.4,86.9,81.5,null,"Brytpunkt 1",1872,109,93,84.5]
[null,"Brytpunkt 4",1550,79,79,79]
[null,"Brytpunkt 5",1860,10,10,10]
[null,null,"Medelhastighet"]
[null,"GIF50ATK","ERL",{"$f":"T75*L6+(1-L6)*40","v":46.533330000000007},{"$f":"U75*M6+(1-M6)*40","v":46.533330000000007},{"$f":"V75*N6+(1-N6)*40","v":46.533330000000007},null,null,null,null,null,null,null,null,null,null,null,null,null,"Medelhastighet"]
[null,"- 40ATK",null,{"$f":"(D71+S28)*L5+(1-L5)*($K5-10)","v":39.606170698890004},{"$f":"(E71+T28)*M5+(1-M5)*($K5-10)","v":39.606170698890004},{"$f":"(F71+U28)*N5+(1-N5)*($K5-10)","v":39.606170698890004},null,null,null,null,null,null,"pb","lb","lbs","lb rel","lbs rel","\"Före\"",null,"Vpb","Vlbu","Vlbs"]
[null,"GIF 50",null,{"$f":"E4","v":49.26315789473685},{"$f":"F4","v":49.26315789473685},{"$f":"G4","v":49.26315789473685},0.1,50,50,50,null,null,0.86,0.06,0.08,{"$f":"F27","v":1},{"$f":"G27","v":1},"GIF50ATK","E",{"$f":"($M73+$N73/$P73+$O73/$Q73)*(50)","v":49.999999999999993},{"$f":"P73*$T73","v":49.999999999999993},{"$f":"Q73*$T73","v":49.999999999999993}]
[null,"-40",null,{"$f":"D73+S28","v":47.433157894736851},{"$f":"E73+T28","v":47.433157894736851},{"$f":"F73+U28","v":47.433157894736851},0.1,47,47,47,null,null,0.92,0.04,0.04,{"$f":"P73","v":1},{"$f":"Q73","v":1},null,"R",{"$f":"($M74+$N74/$P74+$O74/$Q74)*(50)","v":50},50,50]
[null,"-40ATK",null,{"$f":"D74*L5+(1-L5)*($K5-10)","v":41.389657346842114},{"$f":"E74*M5+(1-M5)*($K5-10)","v":41.389657346842114},{"$f":"F74*N5+(1-N5)*($K5-10)","v":41.389657346842114},null,null,null,null,null,null,0.92,0.04,0.04,{"$f":"P74","v":1},{"$f":"Q74","v":1},null,"L",{"$f":"($M75+$N75/$P75+$O75/$Q75)*(50)","v":50},50,50]
[null,"GIF70ATK","E",{"$f":"T76*L8+(1-L8)*($K8-10)","v":66.752102188615837},{"$f":"U76*M8+(1-M8)*($K8-10)","v":66.824146893377616},{"$f":"V76*N8+(1-N8)*($K8-10)","v":66.476731153686814},null,null,null,null,null,null,0.86,0.06,0.08,{"$f":"F24","v":0.99311195640999284},{"$f":"G24","v":0.98612261806130896},"70ATK","E",{"$f":"($M76+$N76/$P76+$O76/$Q76)*(70)","v":70.107937408107531},69.625030879234998,69.135022783761372]
[null,null,"RL",{"$f":"T77*L8+(1-L8)*($K8-10)","v":66.719294282713719},{"$f":"U77*M8+(1-M8)*($K8-10)","v":66.789565181036494},{"$f":"V77*N8+(1-N8)*($K8-10)","v":66.44239282104391},null,null,null,null,null,null,0.92,0.04,0.04,{"$f":"P76","v":0.99311195640999284},{"$f":"Q76","v":0.98612261806130896},null,"R",{"$f":"($M77+$N77/$P77+$O77/$Q77)*(70)","v":70.058823776517542},69.576255544480262,69.086590720795357]
[null,"-60ATK","E",{"$f":"(D76+S29)*L7+(1-L7)*($K7-10)","v":58.881125970073512},{"$f":"(E76+T29)*M7+(1-M7)*($K7-10)","v":59.484099130401418},{"$f":"(F76+U29)*N7+(1-N7)*($K7-10)","v":59.54913755143744},null,null,null,null,null,null,0.92,0.04,0.04,{"$f":"P77","v":0.99311195640999284},{"$f":"Q77","v":0.98612261806130896},null,"L",{"$f":"($M78+$N78/$P78+$O78/$Q78)*(70)","v":70.058823776517542},69.576255544480262,69.086590720795357]
[null,null,"RL",{"$f":"(D77+S29)*L7+(1-L7)*($K7-10)","v":58.860588220978784},{"$f":"(E77+T29)*M7+(1-M7)*($K7-10)","v":59.462174324777138},{"$f":"(F77+U29)*N7+(1-N7)*($K7-10)","v":59.527367048541834},null,null,null,null,null,null,0.86,0.06,0.08,{"$f":"N24","v":0.94957901969944514},{"$f":"O24","v":0.89622551942753148},"GIF 90ATK","E",{"$f":"($M79+$N79/$P79+$O79/$Q79)*(90)","v":91.120422767125248},86.526041725805797,81.664448224923092]
[null,"GIF 70",null,{"$f":"E6","v":68.94202898550725},{"$f":"F6","v":68.467153284671539},{"$f":"G6","v":67.985294117647058},0.05,70,70,69,null,null,0.92,0.04,0.04,{"$f":"P79","v":0.94957901969944514},{"$f":"Q79","v":0.89622551942753148},null,"RL",{"$f":"($M80+$N80/$P80+$O80/$Q80)*(90)","v":90.607999804883121},86.039455631648437,81.205201689421045]
[null,"-60",null,{"$f":"D80+S29","v":66.377028985507252},{"$f":"E80+T29","v":66.602153284671544},{"$f":"F80+U29","v":66.570294117647052},0.05,66,66,65,null,null,0.86,0.06,0.08,{"$f":"N22","v":0.93716921493678329},{"$f":"O22","v":0.84806151180420175},"100ATK","E",{"$f":"($M81+$N81/$P81+$O81/$Q81)*(100)","v":101.83553695411065},95.437130219949665,86.362799424695737]
[null,"-60ATK",null,{"$f":"D81*L7+(1-L7)*($K7-10)","v":60.252020144927542},{"$f":"E81*M7+(1-M7)*($K7-10)","v":60.525765182481763},{"$f":"F81*N7+(1-N7)*($K7-10)","v":60.505566470588235},null,null,null,null,null,null,0.92,0.04,0.04,{"$f":"P81","v":0.93716921493678329},{"$f":"Q81","v":0.84806151180420175},null,"RL",{"$f":"($M82+$N82/$P82+$O82/$Q82)*(100)","v":100.98481163645687},94.639856641877216,85.641332025676164]
[null,"2kf 80",null,{"$f":"M27","v":83.249249249249246},{"$f":"N27","v":81.249230769230778},{"$f":"O27","v":78.987341772151893},0.02,87,84,82,null,null,0.86,0.06,0.08,{"$f":"(E34+K34)/($D$34+$J$34)","v":0.98653198653198648},{"$f":"(F34+L34)/($D$34+$J$34)","v":0.96969696969696972},"70ATK","E",{"$f":"($M83+$N83/$P83+$O83/$Q83)*(70)","v":70.232337883959048},70.232337883959048,70.232337883959048]
[null,"-ATK",null,{"$f":"D83*L9+(1-L9)*($K9-10)","v":78.969741741741743},{"$f":"E83*M9+(1-M9)*($K9-10)","v":78.121944615384621},{"$f":"F83*N9+(1-N9)*($K9-10)","v":76.839367088607588},null,null,null,null,null,null,0.92,0.04,0.04,{"$f":"P83","v":0.98653198653198648},{"$f":"Q83","v":0.96969696969696972},null,"R",70.125725255972696,70.125725255972696,70.125725255972696]
[null,"2kf90ATK","E",{"$f":"T79*L10+(1-L10)*($K10-10)","v":87.138833238315414},{"$f":"U79*M10+(1-M10)*($K10-10)","v":85.697234426628455},{"$f":"V79*N10+(1-N10)*($K10-10)","v":81.491345609531081},null,null,null,null,null,null,0.92,0.04,0.04,{"$f":"P84","v":0.98653198653198648},{"$f":"Q84","v":0.96969696969696972},null,"L",70.125725255972696,70.125725255972696,70.125725255972696]
[null,null,"RL",{"$f":"T80*L10+(1-L10)*($K10-10)","v":86.809879730743347},{"$f":"U80*M10+(1-M10)*($K10-10)","v":85.272444766429075},{"$f":"V80*N10+(1-N10)*($K10-10)","v":81.079860713721246}]
[null,"- 80ATK","E",{"$f":"(D85+S30)*L9+(1-L9)*($K9-10)","v":79.368890102339535},{"$f":"(E85+T30)*M9+(1-M9)*($K9-10)","v":79.961603256025739},{"$f":"(F85+U30)*N9+(1-N9)*($K9-10)","v":77.983914008853148}]
[null,null,"RL",{"$f":"(D86+S30)*L9+(1-L9)*($K9-10)","v":79.146188577713247},{"$f":"(E86+T30)*M9+(1-M9)*($K9-10)","v":79.654905121361793},{"$f":"(F86+U30)*N9+(1-N9)*($K9-10)","v":77.670774003141872}]
[null,"2kf 90",null,{"$f":"M25","v":89.249299719887944},{"$f":"N25","v":84.749262536873161},{"$f":"O25","v":79.987500000000011},0.02,93,87,82]
[null,"-80",null,{"$f":"D89+S30","v":85.949299719887946},{"$f":"E89+T30","v":82.849262536873155},{"$f":"F89+U30","v":78.987500000000011},0.02,89,84,81]
[null,"-80ATK",null,{"$f":"D90*L9+(1-L9)*($K9-10)","v":80.797675910364134},{"$f":"E90*M9+(1-M9)*($K9-10)","v":79.277167551622426},{"$f":"F90*N9+(1-N9)*($K9-10)","v":76.839487500000004}]
[null,"2kf100ATK","E",{"$f":"T81*L11+(1-L11)*($K11-10)","v":98.876652715582992},{"$f":"U81*M11+(1-M11)*($K11-10)","v":94.887980067734759},{"$f":"V81*N11+(1-N11)*($K11-10)","v":86.708333479349648}]
[null,null,"RL",{"$f":"T82*L11+(1-L11)*($K11-10)","v":98.238608727342651},{"$f":"U82*M11+(1-M11)*($K11-10)","v":94.171231121047626},{"$f":"V82*N11+(1-N11)*($K11-10)","v":86.055405483236925}]
[null,"- 80ATK","E",{"$f":"(D92+S31)*L9+(1-L9)*($K9-10)","v":85.995243888449693},{"$f":"(E92+T31)*M9+(1-M9)*($K9-10)","v":85.261621608904505},{"$f":"(F92+U31)*N9+(1-N9)*($K9-10)","v":81.763791777785087}]
[null,null,"RL",{"$f":"(D93+S31)*L9+(1-L9)*($K9-10)","v":85.563288108410973},{"$f":"(E93+T31)*M9+(1-M9)*($K9-10)","v":84.744128869396377},{"$f":"(F93+U31)*N9+(1-N9)*($K9-10)","v":81.266913572743306}]
[null,"2kf100",null,{"$f":"M23","v":95.497382198952877},{"$f":"N23","v":89.497206703910607},{"$f":"O23","v":80.987654320987644},0.02,100,91,83]
[null,"- 80",null,{"$f":"D96+S31","v":90.247382198952877},{"$f":"E96+T31","v":85.747206703910607},{"$f":"F96+U31","v":79.737654320987644},0.02,95,88,81]
[null,"- 80ATK",null,{"$f":"D97*L9+(1-L9)*($K9-10)","v":83.707477748691105},{"$f":"E97*M9+(1-M9)*($K9-10)","v":81.36948324022346},{"$f":"F97*N9+(1-N9)*($K9-10)","v":77.410354938271595}]
[null,"MLV 100",null,{"$f":"R56","v":95.116465973713062},{"$f":"S56","v":87.805251782733038},{"$f":"T56","v":81.897599555987242},0.02,96,88,82]
[null,"MV110",null,{"$f":"J67","v":109},{"$f":"K67","v":93},{"$f":"L67","v":84.5},0.02,111,93,87]
[]
[null,"2kf70",null,{"$f":"E8","v":74.249158249158242},{"$f":"F8","v":73.249146757679185},71.986111111111114]
[null,"-60",null,{"$f":"D102+S29","v":71.684158249158244},{"$f":"E102+T29","v":71.38414675767919},70.571111111111108]
[null,"-60ATK",null,{"$f":"D103*L7+(1-L7)*($K7-10)","v":63.574283063973056},{"$f":"E103*M7+(1-M7)*($K7-10)","v":63.557549044368614},{"$f":"F103*N7+(1-N7)*($K7-10)","v":63.042084444444441}]
[null,"2kf70ATK","E",{"$f":"T83*L8+(1-L8)*($K8-10)","v":66.835201706484639},{"$f":"U83*M8+(1-M8)*($K8-10)","v":67.254727559726973},67.254727559726973]
[null,null,"RL",{"$f":"T84*L8+(1-L8)*($K8-10)","v":66.763984470989769},{"$f":"U84*M8+(1-M8)*($K8-10)","v":67.179139206484649},67.179139206484649]
[null,"-60ATK",null,{"$f":"(D105+S29)*L7+(1-L7)*($K7-10)","v":58.933146268259378},{"$f":"(E105+T29)*M7+(1-M7)*($K7-10)","v":59.757087272866912},{"$f":"(F105+U29)*N7+(1-N7)*($K7-10)","v":60.042387272866904}]

{"sheet":"Trafiksäkerhet","index":4,"n_rows":39,"n_cols":23,"rows_kept":39,"cut":false,"hidden":false,"merged":[]}
[]
["Hastig-","Typ","Bredd/miljö","Tot per Mapkm  2010",null,null,null,"Korsninspåslag",null,null,null,null,null,null,null,null,null,null,null,null,"Uppdaterade potenser 2024-04-02"]
["hetsgräns",null,"m","Dk","SSk",null,null,null,null,null,null,null,"länk + nod result.",null,"Vföre",null,null,"Vrel",null,null,"Potensmodellen","D","SS"]
[50,"GIF","Centrum",3.6709999999999998E-3,{"$f":"0.049619*D39","v":7.4428500000000009E-2},null,null,null,"Dk","SSk","Korsningspåslag",null,"Dk","SSk","Vpb","Vlb","Vlbs","lb","lbs",null,"Landsbygd",5.9,4.5999999999999996]
[50,"GIF","Mellan",3.1050000000000001E-3,{"$f":"0.043057*D39","v":6.458549999999999E-2},null,null,"50 GIF",{"$f":"+AVERAGE(D4:D8)*V10","v":2.4146220852649882E-3},{"$f":"+AVERAGE(E4:E8)*V11","v":5.3351966894274704E-2},1.21,1,{"$f":"+I5*K5","v":2.9216927231706354E-3},{"$f":"+K5*J5","v":6.4555879942072389E-2},{"$f":"Hastighet!E28","v":49.26315789473685},{"$f":"Hastighet!F28","v":49.26315789473685},{"$f":"Hastighet!G28","v":49.26315789473685},{"$f":"Hastighet!F27","v":1},{"$f":"Hastighet!G27","v":1},null,"Tätort",3.8,2.6]
[50,"GIF","Ytter",2.8739999999999998E-3,{"$f":"0.04361*D39","v":6.5415000000000001E-2},null,null,"- med ATK",null,null,null,2,{"$f":"0.9*M5","v":2.6295234508535719E-3},{"$f":"0.9*N5","v":5.8100291947865153E-2}]
[50,"stat, ej ML","6.7-7.9",3.859E-3,{"$f":"0.03841*D39","v":5.7615E-2},null,null,"70 GIF",{"$f":"+AVERAGE(D9:D10)*V10","v":3.0860533013397969E-3},{"$f":"+AVERAGE(E9:E10)*V11","v":4.5477453315543599E-2},1.32,3,{"$f":"+I7*K7","v":4.073590357768532E-3},{"$f":"+K7*J7","v":6.0030238376517553E-2},{"$f":"Hastighet!E25","v":68.94202898550725},{"$f":"Hastighet!F25","v":68.467153284671539},{"$f":"Hastighet!G25","v":67.985294117647058},{"$f":"Hastighet!F24","v":0.99311195640999284},{"$f":"Hastighet!G24","v":0.98612261806130896},null,"Formler"]
[50,"stat, ej ML","8-10",{"$f":"D7","v":3.859E-3},{"$f":"E7","v":5.7615E-2},null,null,"- med ATK",null,null,null,4,{"$f":"0.9*M7","v":3.6662313219916788E-3},{"$f":"0.9*N7","v":5.4027214538865796E-2},null,null,null,null,null,null,"TS-EVA Excel-fil","https://www.trafikverket.se/tseva"]
[70,"GIF","Mellan",4.5900000000000003E-3,{"$f":"0.037296*D39","v":5.5944000000000008E-2},null,null,"70 2kf",{"$f":"+AVERAGE(D11:D12)*V10","v":2.8750797284246869E-3},{"$f":"+AVERAGE(E11:E12)*V11","v":4.9677686253986102E-2},1.32,5,{"$f":"+I9*K9","v":3.795105241520587E-3},{"$f":"+K9*J9","v":6.5574545855261651E-2},{"$f":"Hastighet!M27","v":83.249249249249246},{"$f":"Hastighet!N27","v":81.249230769230778},{"$f":"Hastighet!O27","v":78.987341772151893},{"$f":"Hastighet!N26","v":0.97597553734051834},{"$f":"Hastighet!O26","v":0.94880545451722753},null,"Riskmåttens förändring över tid 6.2.1.2","Effektsambandskatalogen"]
[70,"GIF","Ytter",4.2890000000000003E-3,{"$f":"0.035365*D39","v":5.3047499999999997E-2},null,null,"- med ATK",null,null,null,6,{"$f":"+M9*0.9","v":3.4155947173685284E-3},{"$f":"+N9*0.9","v":5.9017091269735485E-2},null,null,null,null,null,null,"Dödade minskar med 2% per år över tid (2010-2028)",{"$f":"0.98^('Beräkna ÅDT'!K1-V13)","v":0.69513533085703261}]
[70,"stat, ej ML","6.7-7.9",5.6090000000000003E-3,{"$f":"0.038796*D38","v":6.595319999999999E-2},null,null,"90 2kf",{"$f":"+AVERAGE(D15:D16)*V10","v":3.1948419806189219E-3},{"$f":"+AVERAGE(E15:E16)*V11","v":3.5565432662544035E-2},1.1299999999999999,7,{"$f":"+I11*K11","v":3.6101714380993816E-3},{"$f":"+K11*J11","v":4.0188938908674754E-2},{"$f":"Hastighet!M25","v":89.249299719887944},{"$f":"Hastighet!N25","v":84.749262536873161},{"$f":"Hastighet!O25","v":79.987500000000011},{"$f":"Hastighet!N24","v":0.94957901969944514},{"$f":"Hastighet!O24","v":0.89622551942753148},null,"Svårt skadade minskar med 1% per år över tid (2010-2028)",{"$f":"0.99^('Beräkna ÅDT'!K1-Trafiksäkerhet!V13)","v":0.83451376145008738}]
[70,"stat, ej ML","8-10",2.663E-3,{"$f":"0.031238*D38","v":5.3104599999999995E-2},null,null,"- med ATK",null,null,null,8,{"$f":"0.95*M11","v":3.4296628661944122E-3},{"$f":"0.95*N11","v":3.8179491963241018E-2}]
[80,"stat, ej ML","6.7-7.9",4.5657810788198088E-3,{"$f":"0.0279408560118313*D38","v":4.7499455220113208E-2},null,null,"100 2kf",{"$f":"+AVERAGE(D17:D18)*V10","v":3.0377413958452325E-3},{"$f":"+AVERAGE(E17:E18)*V11","v":3.1371124771807826E-2},1.08,9,{"$f":"+I13*K13","v":3.2807607075128514E-3},{"$f":"+K13*J13","v":3.3880814753552452E-2},{"$f":"Hastighet!M23","v":95.497382198952877},{"$f":"Hastighet!N23","v":89.497206703910607},{"$f":"Hastighet!O23","v":80.987654320987644},{"$f":"Hastighet!N22","v":0.93716921493678329},{"$f":"Hastighet!O22","v":0.84806151180420175},null,"Basår TS",2010]
[80,"stat, ej ML","8-10",2.9972738935277279E-3,{"$f":"0.0212449513616221*D38","v":3.6116417314757565E-2},null,null,"- med ATK",null,null,null,10,{"$f":"+M13","v":3.2807607075128514E-3},{"$f":"+N13","v":3.3880814753552452E-2}]
[90,"stat, ej ML","6.7-7.9",4.2370000000000003E-3,{"$f":"0.025133*D38","v":4.2726099999999996E-2},null,null,"90 MLV",{"$f":"+AVERAGE(D15:D16)*V10","v":3.1948419806189219E-3},{"$f":"+AVERAGE(E15:E16)*V11","v":3.5565432662544035E-2},1.3,11,{"$f":"I15*K15","v":4.153294574804599E-3},{"$f":"J15*K15","v":4.623506246130725E-2}]
[90,"stat, ej ML","8-10",4.9550000000000002E-3,{"$f":"0.025006*D38","v":4.2510199999999998E-2},null,null,"- med ATK",null,null,null,12,{"$f":"+M15","v":4.153294574804599E-3},{"$f":"N15","v":4.623506246130725E-2}]
[100,"stat, ej ML","6.7-7.9",4.4679999999999997E-3,{"$f":"0.015138*D38","v":2.57346E-2},null,null,"MLV 110",{"$f":"D23*V10","v":8.3972347967529548E-4},{"$f":"E23*V11","v":8.7907679631152209E-3},1.1499999999999999,13,{"$f":"I17*K17","v":9.6568200162658975E-4},{"$f":"J17*L17","v":0.11427998352049787},{"$f":"Hastighet!E8","v":74.249158249158242},{"$f":"Hastighet!F8","v":73.249146757679185},{"$f":"Hastighet!G8","v":71.986111111111114},{"$f":"Hastighet!H8","v":0.98653167907812078},{"$f":"Hastighet!I8","v":0.96952090513332134}]
[100,"stat, ej ML","8-10",4.2719999999999998E-3,{"$f":"0.029088*D38","v":4.9449599999999996E-2},null,null,"MV 110",{"$f":"D21*V10","v":5.0119257354792044E-4},{"$f":"E21*V11","v":7.4593847080977509E-3},1.05,14,{"$f":"I18*K18","v":5.2625220222531652E-4},{"$f":"J18*K18","v":7.8323539435026391E-3}]
[100,"MLV","13-14m",4.2000000000000002E-4,{"$f":"0.008611*D38","v":1.4638700000000001E-2}]
[100,"2+1 Räcke Gles","9-13m",4.0505593366344607E-4,{"$f":"0.00827547133480904*D38","v":1.4068301269175366E-2}]
[110,"MV räcke","21,5m",7.2099999999999996E-4,{"$f":"0.005258*D38","v":8.9385999999999997E-3}]
[120,"MV räcke","<24,5",9.5100000000000002E-4,{"$f":"0.022028*D38","v":3.7447599999999998E-2}]
[110,"MLV   ","13-14",1.2080000000000001E-3,1.0534E-2]
[]
[]
[]
[]
[]
[]
[]
[]
[]
[]
[]
[]
[]
[null,"Bortfallsfaktorer","D","SS","LS","EG"]
[null,"Landsbygd",1,1.7,1.7,7]
[null,"Tätort",1,1.5,1.5,7]

{"sheet":"CO2","index":5,"n_rows":94,"n_cols":25,"rows_kept":94,"cut":false,"hidden":false,"merged":[]}
["CO2-utsläpp i gram per fordonskilometer enligt nivå 2028 totala utsläpp (biogena + fossila) enl metod i ASEK"]
["V","Pb",null,"Lbu",null,"Lbs",null,null,null,null,null,null,null,null,null,null,null,null,"Från ASEK"]
[null,"Landsbygd","Tätort","Landsbygd","Tätort","Landsbygd","Tätort",null,null,null,null,null,null,null,null,null,null,null,"Personbil","land","tätort",null,"LBU","land","tätort"]
[30,null,150.88832320999998,null,489.24268199999995,null,914.50857600000006,null,null,null,null,null,null,null,null,null,null,null,"2019-01-01",173,187,null,"2019-01-01",634,642]
[31,null,149.53547716540001,null,485.64149099999997,null,907.94226888000003,null,null,null,null,null,null,null,null,null,null,null,"2028-01-01",{"$f":"T4+((T6-T4)/11)*9","v":115.72727272727273},{"$f":"U4+((U6-U4)/11)*9","v":124.81818181818181},null,"2028-01-01",{"$f":"X4+((X6-X4)/11)*9","v":444.18181818181819},{"$f":"Y4+((Y6-Y4)/11)*9","v":449.72727272727275}]
[32,null,148.21670914160001,null,482.17426280000001,null,901.50527232000002,null,null,null,null,null,null,null,null,null,null,null,"2030-01-01",103,111,null,"2030-01-01",402,407]
[33,null,146.9320191386,null,478.84099739999999,null,895.19758632000003,null,null,null,null,null,null,null,null,null,null,null,"Lätt lastbil",null,null,null,"LBS"]
[34,null,145.68140715640001,null,475.64169480000004,null,889.01921087999983,null,null,null,null,null,null,null,null,null,null,null,"2019-01-01",200,183,null,"2019-01-01",958,1062]
[35,null,144.46487319500002,null,472.57635499999998,null,882.97014600000011,null,null,null,null,null,null,null,null,null,null,null,"2028-01-01",{"$f":"T8+((T10-T8)/11)*9","v":137},{"$f":"U8+((U10-U8)/11)*9","v":125.72727272727273},null,"2028-01-01",{"$f":"X8+((X10-X8)/11)*9","v":680.63636363636363},{"$f":"Y8+((Y10-Y8)/11)*9","v":753.5454545454545}]
[36,null,143.2824172544,null,469.64497799999998,null,877.05039168000008,null,null,null,null,null,null,null,null,null,null,null,"2030-01-01",123,113,null,"2030-01-01",619,685]
[37,null,142.1340393346,null,466.84756379999999,null,871.25994792000006,null,null,null,null,null,null,null,null,null,null,null,"Snitt ungefär för lätta",{"$f":"T5*0.9+T9*0.1","v":117.85454545454546},{"$f":"U5*0.9+U9*0.1","v":124.90909090909091}]
[38,null,141.01973943560003,null,464.1841124,null,865.59881471999995]
[39,null,139.93951755740002,null,461.65462380000002,null,860.06699208000009]
[40,null,138.89337370000001,null,459.25909800000005,null,854.66448000000014]
[41,null,137.88130786340002,null,456.99753499999991,null,849.39127847999998]
[42,null,136.90332004759998,null,454.86993479999995,null,844.24738752000019]
[43,null,135.95941025259998,null,452.8762974,null,839.23280712000007]
[44,null,135.04957847840001,null,451.01662279999999,null,834.3475372800001]
[45,null,134.17382472499997,null,449.29091100000005,null,829.59157800000014]
[46,null,133.33214899239999,null,447.699162,null,824.96492928000009]
[47,null,132.52455128060001,null,446.24137579999996,null,820.46759112000007]
[48,null,131.75103158959999,null,444.91755239999998,null,816.09956351999995]
[49,null,131.0115899194,null,443.7276918,null,811.86084648000008]
[50,null,130.30622627000002,null,442.67179399999992,null,807.75144]
[51,null,129.63494064140002,null,441.7498589999999,null,803.77134407999995]
[52,null,128.99773303359999,null,440.96188679999989,null,799.92055872000003]
[53,null,128.3946034466,null,440.3078774,null,796.19908392000002]
[54,null,127.8255518804,null,439.78783079999999,null,792.60691968000003]
[55,null,127.29057833499999,null,439.401747,null,789.14406600000007]
[56,null,126.78968281040001,null,439.14962599999996,null,785.81052288000012]
[57,null,126.32286530659999,null,439.03146780000003,null,782.60629032000008]
[58,null,125.8901258236,null,439.04727239999994,null,779.53136831999996]
[59,null,125.49146436140001,null,439.19703979999997,null,776.58575688000008]
[60,null,125.12688091999999,null,439.48076999999995,null,773.7694560000001]
[61,null,124.79637549939997,null,439.89846299999999,null,771.08246567999993]
[62,null,124.49994809960002,null,440.45011879999998,null,768.52478592000011]
[63,null,124.2375987206,null,441.13573739999998,null,766.09641671999998]
[64,null,124.00932736240001,null,441.95531879999999,null,763.79735808000009]
[65,null,123.81513402499999,null,442.90886299999988,null,761.62761000000012]
[66,116.44458932759997,123.65501870840001,437.95905540000007,443.9963699999999,687.55297679999967,759.58717248000005]
[67,116.38092923499998,123.52898141260002,439.16813925000002,445.21783979999987,685.26613619999978,757.67604552000012]
[68,116.3438097352,123.43702213759998,440.64792480000011,446.57327240000006,683.34844319999979,755.89422911999998]
[69,116.33323082819997,123.37914088340001,442.39841205000005,448.06266779999987,681.79989779999971,754.24172327999997]
[70,116.34919251399999,123.35533765,444.41960099999994,449.68602599999997,680.62049999999977,752.71852800000011]
[71,116.39169479260001,null,446.71149165000008,null,679.81024979999961]
[72,116.46073766399998,null,449.27408400000002,null,679.36914719999959]
[73,116.55632112819997,null,452.10737805000002,null,679.29719219999981]
[74,116.67844518519999,null,455.2113738000001,null,679.59438479999972]
[75,116.82710983499999,null,458.58607125000009,null,680.26072499999975]
[76,117.00231507759999,null,462.23147040000003,null,681.29621279999969]
[77,117.20406091299999,null,466.14757125000006,null,682.70084819999965]
[78,117.43234734119999,null,470.33437380000009,null,684.47463119999952]
[79,117.6871743622,null,474.79187805000009,null,686.61756179999986]
[80,117.96854197599998,null,479.52008400000005,null,689.12963999999965]
[81,118.27645018259997,null,484.51899164999992,null,692.01086579999969]
[82,118.61089898199999,null,489.78860100000014,null,695.26123919999964]
[83,118.97188837419998,null,495.32891204999993,null,698.8807601999996]
[84,119.35941835919998,null,501.13992480000007,null,702.86942879999958]
[85,119.77348893699998,null,507.22163925000001,null,707.2272449999997]
[86,120.21410010759999,null,513.57405540000002,null,711.95420879999972]
[87,120.68125187099999,null,520.19717325000011,null,717.05032019999953]
[88,121.17494422719997,null,527.09099279999998,null,722.51557919999971]
[89,121.69517717619999,null,534.25551404999999,null,728.34998579999956]
[90,122.24195071799998,null,541.69073700000001,null,734.55353999999954]
[91,122.81526485259997]
[92,123.41511957999998]
[93,124.0415149002]
[94,124.69445081319999]
[95,125.37392731899999]
[96,126.07994441759999]
[97,126.81250210899998]
[98,127.5716003932]
[99,128.35723927019995]
[100,129.16941874]
[101,130.00813880259997]
[102,130.87339945799999]
[103,131.76520070619998]
[104,132.68354254720001]
[105,133.62842498099999]
[106,134.59984800759997]
[107,135.597811627]
[108,136.62231583919996]
[109,137.67336064419999]
[110,138.75094604199998]
[111,139.85507203259999]
[112,140.98573861599996]
[113,142.14294579220001]
[114,143.32669356119999]
[115,144.53698192299996]
[116,145.7738108776]
[117,147.037180425]
[118,148.32709056519994]
[119,149.64354129819998]
[120,150.98653262399998]

{"sheet":"Version","index":6,"n_rows":72,"n_cols":4,"rows_kept":72,"cut":false,"hidden":false,"merged":[]}
[]
["Version 0.4"]
["1) Potensfel rättat i CO2-beräkning"]
["2) Indata-kolumner från Reg Ö"]
["3) Viktsfaktor i VQ-före rättad"]
[]
[]
["4) Infört 2kf 70 före med/utan ATK och 2kf80 med/utan ATK efter"]
[]
["5) Infört MLV110 till MLV100"]
[]
["6) Rättat tidsfel i olycksmodell för MLV110"]
[]
["V 0.44"]
["Gånger 10 för D o SS"]
["Kiloton för CO2"]
["Summa för tid"]
[]
["V 0.45"]
["kolumn CC pekade tidigare fel till kolumn BG istället för BF. Valde därför CO2 för lbu istället för pb."]
[]
["V 0.46"]
["MLV 2+1 40 % i hastighetsflikens VQ avsåg tidigare S2 nu S1"]
[]
["V 0.47"]
["Ombyggnad till MV110 tidigare endast från MLV110 nu även från MLV100"]
[]
["V 1.0"]
["1) VBA programmerad"]
["2) Beräkningshjälp av ÅDT"]
["3) Summa för respektive effekt på \"Indata & Resulat"]
["4) Hastighetssamband har uppdaterats till gällande effektsamband 2018-04-01"]
["5) Trafiksäkerhetseffekter har uppdaterats utefter TS EVA 3.0"]
["6) Koldioxidutsläpp har med indata från Helen Lindblom utefter beslutad politik 2019-10-03"]
["7) D och SS beräknas återigen på årsbasis"]
["8) Ytterligare mindre ändringar har gjorts i utformning av flikar och grafisk tydlighet"]
[]
["V 2020:1"]
["1) Trafikutvecklingstalen har uppdaterats för att överensstämma med nya trafikprognoser"]
["2) Hastighetsvalen har uppdaterats för att motsvara nuvarande behov"]
["3) CO2-värdering har uppdaterats för att spegla basprognosen"]
["4) Ytterligare felkod har åtgärdats"]
["5) Generella hastighetsgränser har uppdaterats till nedanstående effektsamband"]
[null,"pb","lb","lbs"]
["50-40",-1.83,-1.83,-1.83]
["70-60",{"$f":"(0.5*B45)+(0.5*B47)","v":-2.5649999999999999},{"$f":"(0.5*C45)+(0.5*C47)","v":-1.865},{"$f":"(0.5*D45)+(0.5*D47)","v":-1.415}]
["90-80",-3.3,-1.9,-1]
["100-80",{"$f":"(0.5*-5.4)+(0.5*-5.1)","v":-5.25},{"$f":"(0.5*-3.4)+(0.5*-4.1)","v":-3.75},{"$f":"(0.5*-2.6)+(0.5*0.1)","v":-1.25}]
["110-100",-2.2999999999999998,0,-0.5]
["110-120",3.7,3.2,0]
["90-100",2.4,1.9,0]
["6) Ytterligare mindre ändringar har gjorts i utformning av flikar och grafisk tydlighet"]
[]
["V 2021:1"]
["Rättning av potensen i årlig procenuell tillväxt vid beräkning av ÅDT"]
[]
["V 2023:1"]
["1) Trafikutvecklingstalen har uppdaterats för att överensstämma med nya trafikprognoser"]
["2) Uppdaterat länk till EVA:s hemsida för referens trafikutvecklingstal"]
["3) Enklare redaktionella förändringar och förtydliganden"]
["Förändringarna gjorda 2023-03-05, Version publiceras 2023-04-03"]
[]
["V 2024:1"]
[1,"Uppdaterat beräkningsåret (öppningsåret) till 2028 enligt ASEK8"]
[2,"Trafikutvecklingstalen har uppdaterats för att överensstämma med nya trafikprognoser 2024"]
[3,"Emissionsfaktorer har uppdaterats enligt ny leverans från HBEFA-modellen"]
[4,"Uppdaterade potenser i potensmodellen enligt nya effektsamband"]
[5,"Enklare redaktionella förändringar"]
[]
[]
["V 2026.1"]
[1,"Trafikutvecklingstalen har uppdaterats för att överensstämma med nya trafikprognoser 2026"]

{"sheet":"Blad1","index":7,"n_rows":14,"n_cols":6,"rows_kept":14,"cut":false,"hidden":true,"merged":[]}
["GIF",50,null,null,{"$f":"A1&B1","v":"GIF50"},40]
["GIF",70,null,null,{"$f":"A2&B2","v":"GIF70"},60]
["2kf",90,null,null,{"$f":"A3&B3","v":"2kf90"},80]
["2kf",100,null,null,"2kf100",80]
["MLV",90,null,null,"MLV90",100]
["MLV",110,null,null,"MLV110",100]
["MV",110,null,null,"MV110",120]
[]
["Ja","Ja"]
[null,"Nej","Nej"]
[]
[]
[null,{"$f":"IF(CO11=\"GIF50\",Blad1!$F$1,IF(CO11=\"GIF70\",Blad1!$F$2,IF(I11=\"2kf\",Blad1!$F$3,IF(I11=\"MLV\",Blad1!$F$5,IF(I11=\"MV\",Blad1!$F$7,\"\")))))","v":""}]
[null,null,{"$f":"IF(CO11=\"GIF50\",Blad1!$F$1,IF(CO11=\"GIF70\",Blad1!$F$2,IF(I11=\"2kf\",$F$3,IF(I11=\"MLV\",Blad1!$F$5,IF(I11=\"MV\",Blad1!$F$7,\"\")))))","v":""}]